BEGIN:VCALENDAR
VERSION:2.0
PRODID:-//InvisionCommunity Events 5.0.18//EN
METHOD:PUBLISH
CALSCALE:GREGORIAN
REFRESH-INTERVAL:PT15M
X-PUBLISHED-TTL:PT15M
X-WR-CALNAME:Northern Ireland
NAME:Northern Ireland
BEGIN:VTIMEZONE
TZID:Europe/London
TZURL:https://tzurl.org/zoneinfo/Europe/London
X-LIC-LOCATION:Europe/London
BEGIN:DAYLIGHT
TZOFFSETFROM:+0000
TZOFFSETTO:+0100
TZNAME:BST
DTSTART:20250330T020000Z
RRULE:FREQ=YEARLY;BYMONTH=3;BYDAY=-1SU
END:DAYLIGHT
BEGIN:STANDARD
TZOFFSETFROM:+0100
TZOFFSETTO:+0000
TZNAME:GMT
DTSTART:20251026T020000Z
RRULE:FREQ=YEARLY;BYMONTH=10;BYDAY=-1SU
END:STANDARD
END:VTIMEZONE
BEGIN:VEVENT
SUMMARY:NI Chat (on line)
DTSTAMP:20250131T223140Z
SEQUENCE:0
UID:9266-29-0712e666d78c35a5e0181a336d457050@bn.org.uk
ORGANIZER;CN="Kev.oconnor":notifications@bn.org.uk
DESCRIPTION:\n	This is an hour of Zoom chat about anything you want.\n	T
	he Meeting ID is 86411543915\n	Password is 754839\n	This is a great way to
	 get to know others better and feel part of the\n	group\, these are clothi
	ng optional so if you are new to Social Nudity\n	this is a good way to get
	 started. All you need to is download Zoom on\n	your computer or phone and
	 log on to the meeting and turn your camera on\n	 \n\n
DTSTART:20250218T190000Z
DTEND:20250218T200000Z
END:VEVENT
END:VCALENDAR
