BEGIN:VCALENDAR
VERSION:2.0
PRODID:-//InvisionCommunity Events 5.0.18//EN
METHOD:PUBLISH
CALSCALE:GREGORIAN
REFRESH-INTERVAL:PT15M
X-PUBLISHED-TTL:PT15M
X-WR-CALNAME:Northern Ireland
NAME:Northern Ireland
BEGIN:VTIMEZONE
TZID:Europe/London
TZURL:https://tzurl.org/zoneinfo/Europe/London
X-LIC-LOCATION:Europe/London
BEGIN:DAYLIGHT
TZOFFSETFROM:+0000
TZOFFSETTO:+0100
TZNAME:BST
DTSTART:20250330T020000Z
RRULE:FREQ=YEARLY;BYMONTH=3;BYDAY=-1SU
END:DAYLIGHT
BEGIN:STANDARD
TZOFFSETFROM:+0100
TZOFFSETTO:+0000
TZNAME:GMT
DTSTART:20251026T020000Z
RRULE:FREQ=YEARLY;BYMONTH=10;BYDAY=-1SU
END:STANDARD
END:VTIMEZONE
BEGIN:VEVENT
SUMMARY:Monaghan swim (BN/INA members only)
DTSTAMP:20250131T222424Z
SEQUENCE:0
UID:9264-29-0712e666d78c35a5e0181a336d457050@bn.org.uk
ORGANIZER;CN="Kev.oconnor":notifications@bn.org.uk
DESCRIPTION:\n	Monthly swim. Booking essential\n\n\n\n	Sunday 23rd Febua
	ry 5.30pm - 7.30pm\n	The swim is open to members of INA or BN (INF-FNI) .\
	n	Booking is essential at\n	https://docs.google.com/forms/d/e/1FAIpQLSeqpE
	fANN_3Y2Buqjkiq8aFaJ_26CIr9c8cxIg-lFPmPBbstg/viewform\n	 \n\n
DTSTART:20250223T173000Z
DTEND:20250223T193000Z
END:VEVENT
END:VCALENDAR
