BEGIN:VCALENDAR
VERSION:2.0
PRODID:-//InvisionCommunity Events 5.0.18//EN
METHOD:PUBLISH
CALSCALE:GREGORIAN
REFRESH-INTERVAL:PT15M
X-PUBLISHED-TTL:PT15M
X-WR-CALNAME:Northern Ireland
NAME:Northern Ireland
BEGIN:VTIMEZONE
TZID:Europe/London
TZURL:https://tzurl.org/zoneinfo/Europe/London
X-LIC-LOCATION:Europe/London
BEGIN:DAYLIGHT
TZOFFSETFROM:+0000
TZOFFSETTO:+0100
TZNAME:BST
DTSTART:20250330T020000Z
RRULE:FREQ=YEARLY;BYMONTH=3;BYDAY=-1SU
END:DAYLIGHT
BEGIN:STANDARD
TZOFFSETFROM:+0100
TZOFFSETTO:+0000
TZNAME:GMT
DTSTART:20251026T020000Z
RRULE:FREQ=YEARLY;BYMONTH=10;BYDAY=-1SU
END:STANDARD
END:VTIMEZONE
BEGIN:VEVENT
SUMMARY:Broughshane Sauna Evening (free)
DTSTAMP:20250131T215124Z
SEQUENCE:0
UID:9260-29-0712e666d78c35a5e0181a336d457050@bn.org.uk
ORGANIZER;CN="Kev.oconnor":notifications@bn.org.uk
DESCRIPTION:\n	Social and sauna evening clothing optional but clothes fr
	ee recommended in sauna. Please bring a towel and flip flops plus any drin
	ks or snacks you may want.\n\n\n\n	 \n\n\n\n	This event is held in tandem
	 with the nearby dance class so it's possible to do one or both. People wi
	th health conditions are advised to seek medical advice before using a hot
	 sauna.\n\n\n\n	 \n\n\n\n	RSVP for a place\n\n
DTSTART:20250205T180000Z
DTEND:20250205T223000Z
END:VEVENT
END:VCALENDAR
