BEGIN:VCALENDAR
VERSION:2.0
PRODID:-//InvisionCommunity Events 5.0.18//EN
METHOD:PUBLISH
CALSCALE:GREGORIAN
REFRESH-INTERVAL:PT15M
X-PUBLISHED-TTL:PT15M
X-WR-CALNAME:South West
NAME:South West
BEGIN:VTIMEZONE
TZID:Europe/London
TZURL:https://tzurl.org/zoneinfo/Europe/London
X-LIC-LOCATION:Europe/London
BEGIN:DAYLIGHT
TZOFFSETFROM:+0000
TZOFFSETTO:+0100
TZNAME:BST
DTSTART:20250330T020000Z
RRULE:FREQ=YEARLY;BYMONTH=3;BYDAY=-1SU
END:DAYLIGHT
BEGIN:STANDARD
TZOFFSETFROM:+0100
TZOFFSETTO:+0000
TZNAME:GMT
DTSTART:20251026T020000Z
RRULE:FREQ=YEARLY;BYMONTH=10;BYDAY=-1SU
END:STANDARD
END:VTIMEZONE
BEGIN:VEVENT
SUMMARY:Nudie Dudie Swim
DTSTAMP:20250130T120720Z
SEQUENCE:0
UID:9250-4-0712e666d78c35a5e0181a336d457050@bn.org.uk
ORGANIZER;CN="Sunshinekid":notifications@bn.org.uk
DESCRIPTION:\n	Nudie Dudie Swim \n\n\n\n	Sunday 16th Jauary  2025\n\
	n\n\n	Swim time 3.30 to 4.30pm\n\n\n\n	Ham Lane East\, Llantwit Major CF61
	 1TQ\n\n\n\n	Please Confirm with Andy 07817773479\n\n\n\n	Please bring som
	e id if it’s your 1st time.\n\n\n\n	See our new website: http://nudiedud
	ies.wales\n\n
DTSTART:20250216T153000Z
DTEND:20250216T163000Z
END:VEVENT
END:VCALENDAR
