BEGIN:VCALENDAR
VERSION:2.0
PRODID:-//InvisionCommunity Events 5.0.18//EN
METHOD:PUBLISH
CALSCALE:GREGORIAN
REFRESH-INTERVAL:PT15M
X-PUBLISHED-TTL:PT15M
X-WR-CALNAME:North West
NAME:North West
BEGIN:VTIMEZONE
TZID:Europe/London
TZURL:https://tzurl.org/zoneinfo/Europe/London
X-LIC-LOCATION:Europe/London
BEGIN:DAYLIGHT
TZOFFSETFROM:+0000
TZOFFSETTO:+0100
TZNAME:BST
DTSTART:20250330T020000Z
RRULE:FREQ=YEARLY;BYMONTH=3;BYDAY=-1SU
END:DAYLIGHT
BEGIN:STANDARD
TZOFFSETFROM:+0100
TZOFFSETTO:+0000
TZNAME:GMT
DTSTART:20251026T020000Z
RRULE:FREQ=YEARLY;BYMONTH=10;BYDAY=-1SU
END:STANDARD
END:VTIMEZONE
BEGIN:VEVENT
SUMMARY:WITHINGTON GBSD
DTSTAMP:20250129T172536Z
SEQUENCE:0
UID:9244-5-0712e666d78c35a5e0181a336d457050@bn.org.uk
ORGANIZER;CN="Ron.O":notifications@bn.org.uk
DESCRIPTION:Please Note: The swim time for this event only is 5pm - 6.30
	pm. We return to the 6pm start time in September.Withington Pool GBSD with
	 mega Sauna.Join us on the 3rd Sunday of each Month except April (2nd Sund
	ay).Visit the Website to book17.00 - 18.30. £10 online or £10 cash on th
	e nightTo book online or join our WhatsApp group message Ron 07761875675.
	 Burton Road\, Withington\, Manchester. M20 3EB.Mailto: ron.ohare@bn.org.
	ukThis event is for Over 18s onlyThinking of joining British Naturism? Vie
	w the benefits
DTSTART:20250817T160000Z
DTEND:20250817T173000Z
END:VEVENT
END:VCALENDAR
