BEGIN:VCALENDAR
VERSION:2.0
PRODID:-//InvisionCommunity Events 5.0.18//EN
METHOD:PUBLISH
CALSCALE:GREGORIAN
REFRESH-INTERVAL:PT15M
X-PUBLISHED-TTL:PT15M
X-WR-CALNAME:North West
NAME:North West
BEGIN:VTIMEZONE
TZID:Europe/London
TZURL:https://tzurl.org/zoneinfo/Europe/London
X-LIC-LOCATION:Europe/London
BEGIN:DAYLIGHT
TZOFFSETFROM:+0000
TZOFFSETTO:+0100
TZNAME:BST
DTSTART:20250330T020000Z
RRULE:FREQ=YEARLY;BYMONTH=3;BYDAY=-1SU
END:DAYLIGHT
BEGIN:STANDARD
TZOFFSETFROM:+0100
TZOFFSETTO:+0000
TZNAME:GMT
DTSTART:20251026T020000Z
RRULE:FREQ=YEARLY;BYMONTH=10;BYDAY=-1SU
END:STANDARD
END:VTIMEZONE
BEGIN:VEVENT
SUMMARY:WITHINGTON GBSD.
DTSTAMP:20250129T164352Z
SEQUENCE:0
UID:9242-5-0712e666d78c35a5e0181a336d457050@bn.org.uk
ORGANIZER;CN="Ron.O":notifications@bn.org.uk
DESCRIPTION:\n	Withington Pool GBSD with mega Sauna.\n\n\n\n	Visit the W
	ebsite to book\n\n\n\n	Join us on the 3rd Sunday of each Month except Apri
	l (2nd Sunday).\n\n\n\n	18.00 - 19.30. £10pp  online or cash on the nigh
	t.\n\n\n\n	To join our WhatsApp group message Ron 07761875675. \n\n\n\n	B
	urton Road\, Withington\, Manchester. M20 3EB.\n\n\n\n	Mailto: ron.ohare@b
	n.org.uk\n\n\n\n	This event is for Over 18s only\n\n\n\n	Thinking of joini
	ng British Naturism? View the benefits\n\n\n\n	\n\n
DTSTART:20250615T170000Z
DTEND:20250615T183000Z
END:VEVENT
END:VCALENDAR
