BEGIN:VCALENDAR
VERSION:2.0
PRODID:-//InvisionCommunity Events 5.0.18//EN
METHOD:PUBLISH
CALSCALE:GREGORIAN
REFRESH-INTERVAL:PT15M
X-PUBLISHED-TTL:PT15M
X-WR-CALNAME:South West
NAME:South West
BEGIN:VTIMEZONE
TZID:Europe/London
TZURL:https://tzurl.org/zoneinfo/Europe/London
X-LIC-LOCATION:Europe/London
BEGIN:DAYLIGHT
TZOFFSETFROM:+0000
TZOFFSETTO:+0100
TZNAME:BST
DTSTART:20250330T020000Z
RRULE:FREQ=YEARLY;BYMONTH=3;BYDAY=-1SU
END:DAYLIGHT
BEGIN:STANDARD
TZOFFSETFROM:+0100
TZOFFSETTO:+0000
TZNAME:GMT
DTSTART:20251026T020000Z
RRULE:FREQ=YEARLY;BYMONTH=10;BYDAY=-1SU
END:STANDARD
END:VTIMEZONE
BEGIN:VEVENT
SUMMARY:Far West Sun Club
DTSTAMP:20250128T204244Z
SEQUENCE:0
UID:9236-4-0712e666d78c35a5e0181a336d457050@bn.org.uk
ORGANIZER;CN="Simon_Hill":notifications@bn.org.uk
DESCRIPTION:\n	Swim at Hotel in Redruth 8pm-11pm\n\n\n\n	 \n\n\n\n	We h
	ave the use of the hotel's Aphrodite Suite\, which includes a floodlit poo
	l\, sauna\, jacuzzi and a Turkish Bath. There are tables and sun loungers 
	around the pool\; and there's a bar which sells light refreshments.\n\n\n\
	n	Please ring the Membership Secretaries\, Ken &amp\; Linda after 6pm on 0
	7851 435274 before visiting us. \n\n\n\n	Or via email to farwestinfo@hotm
	ail.com. Visitors are very welcome\, but must ring or email us before hand
	 to arrange a visit. \n\n\n\n	Proof of ID is usually required.\n\n
DTSTART;VALUE=DATE:20250222
END:VEVENT
END:VCALENDAR
