BEGIN:VCALENDAR
VERSION:2.0
PRODID:-//InvisionCommunity Events 5.0.18//EN
METHOD:PUBLISH
CALSCALE:GREGORIAN
REFRESH-INTERVAL:PT15M
X-PUBLISHED-TTL:PT15M
X-WR-CALNAME:North West
NAME:North West
BEGIN:VTIMEZONE
TZID:Europe/London
TZURL:https://tzurl.org/zoneinfo/Europe/London
X-LIC-LOCATION:Europe/London
BEGIN:DAYLIGHT
TZOFFSETFROM:+0000
TZOFFSETTO:+0100
TZNAME:BST
DTSTART:20250330T020000Z
RRULE:FREQ=YEARLY;BYMONTH=3;BYDAY=-1SU
END:DAYLIGHT
BEGIN:STANDARD
TZOFFSETFROM:+0100
TZOFFSETTO:+0000
TZNAME:GMT
DTSTART:20251026T020000Z
RRULE:FREQ=YEARLY;BYMONTH=10;BYDAY=-1SU
END:STANDARD
END:VTIMEZONE
BEGIN:VEVENT
SUMMARY:WITHINGTON GBSD
DTSTAMP:20250128T130824Z
SEQUENCE:0
UID:9235-5-0712e666d78c35a5e0181a336d457050@bn.org.uk
ORGANIZER;CN="Ron.O":notifications@bn.org.uk
DESCRIPTION:\n	Withington Pool GBSD with mega Sauna.\n\n\n\n	Join us on 
	the 3rd Sunday of each Month except April (2nd Sunday).\n\n\n\n	18.00 to 1
	9.30. £9 online or £10 cash on the night\n\n\n\n	To book online or join
	 our WhatsApp group message Ron 07761875675. \n\n\n\n	Burton Road\, Withi
	ngton\, Manchester. M20 3EB.\n\n\n\n	Mailto: ron.ohare@bn.org.uk\n\n\n\n	T
	his event is for Over 18s only\n\n\n\n	Thinking of joining British Naturis
	m? View the benefits\n\n\n\n	\n\n
DTSTART:20250216T180000Z
DTEND:20250216T193000Z
END:VEVENT
END:VCALENDAR
