BEGIN:VCALENDAR
VERSION:2.0
PRODID:-//InvisionCommunity Events 5.0.18//EN
METHOD:PUBLISH
CALSCALE:GREGORIAN
REFRESH-INTERVAL:PT15M
X-PUBLISHED-TTL:PT15M
X-WR-CALNAME:North West
NAME:North West
BEGIN:VTIMEZONE
TZID:Europe/London
TZURL:https://tzurl.org/zoneinfo/Europe/London
X-LIC-LOCATION:Europe/London
BEGIN:DAYLIGHT
TZOFFSETFROM:+0000
TZOFFSETTO:+0100
TZNAME:BST
DTSTART:20250330T020000Z
RRULE:FREQ=YEARLY;BYMONTH=3;BYDAY=-1SU
END:DAYLIGHT
BEGIN:STANDARD
TZOFFSETFROM:+0100
TZOFFSETTO:+0000
TZNAME:GMT
DTSTART:20251026T020000Z
RRULE:FREQ=YEARLY;BYMONTH=10;BYDAY=-1SU
END:STANDARD
END:VTIMEZONE
BEGIN:VEVENT
SUMMARY:THE POTTERIES SWIM (TPS) Newcastle-under-Lyme
DTSTAMP:20250126T102948Z
SEQUENCE:0
UID:9234-5-0712e666d78c35a5e0181a336d457050@bn.org.uk
ORGANIZER;CN="Alain":notifications@bn.org.uk
DESCRIPTION:\n Potteries Naturist Swimming ClubLAST 2025 SWIM SUNDAY 7t
	h DECEMBERWe are a friendly club\, open to all naturists over 18. Why not
	 give it a try - swim and relax in a pleasant\, friendly environment. A n
	aturist swim is just like using any other public pool\, but without costum
	es. The same standard of behaviour is required as would be expected at a c
	onventional public swim.We are a member club of British Naturism.We meet o
	n alternate Sundays at:Jubilee Baths\,Nelson Place\,Newcastle under LymeSt
	affs.\, ST5 1HG.From 19:30 to 20:30Club weblink WITH 2025 DATES https://s
	ites.google.com/site/thepotteriesswim/home2025 SWIM DATESJanuary 2025:\nSu
	nday\, 5th Sunday\, 19thFebruary 2025:\nSunday\, 2nd Sunday\, 16thMarch 20
	25:\nSunday\, 2nd Sunday\, 16th Sunday\, 30thApril 2025:\nSunday\, 13th Su
	nday\, 27thMay 2025:\nSunday\, 11th Sunday\, 25thJune 2025:\nSunday\, 1st 
	Sunday\, 15th Sunday\, 29thJuly 2025:\nSunday\, 13th Sunday\, 27thAugust 2
	025:\nSunday\, 3rd Sunday\, 17th Sunday\, 31stSeptember 2025:\nSunday\, 14
	th Sunday\, 28thOctober 2025:\nSunday\, 12th Sunday\, 26thNovember 2025:\n
	Sunday\, 9th Sunday\, 23rdDecember 2025:\nSunday\, 7th Closed for Christm
	as Notice Board:Swims have now restarted\, alternate SUNDAYS from 19:30 
	- 20:30. (Note shorter time than previously). Entrance charges have been r
	educed to reflect the reduction in facilities -- they will be further revi
	ewed at the next AGM.(CASH ONLY ACCEPTED)Please try to arrive 10 / 15 min
	utes before the session starts. The café has currently reopened it’s si
	tting area but there’s no food or drink café provision on Sundays\, ju
	st a couple of machines for canned drinks &amp\; snacks. At the end of th
	e session\, please be ready to depart promptly -- by 20:40. This is to giv
	e the staff time to clean before they leave.Only the smaller\, 12m pool is
	 available - the fitness equipment is no longer in place. The pool itself 
	due to its depth is NOT SUITABLE FOR CHILDREN. The sauna suite no longer 
	exists.There may be changes to the entrance charges in due course\, depend
	ing on numbers attending. More details will be posted when known.FIRST TIM
	E VISITORS\, you’ll be required to complete a form &amp\; produce offici
	al photographic ID or your BN card\, thank you. \n\n  * Photo permissi
	on kindly given by a friend &amp\; YBN member for the promotion of our 
	swim *   
DTSTART:20251207T193000Z
DTEND:20251207T203000Z
END:VEVENT
END:VCALENDAR
