BEGIN:VCALENDAR
VERSION:2.0
PRODID:-//InvisionCommunity Events 5.0.18//EN
METHOD:PUBLISH
CALSCALE:GREGORIAN
REFRESH-INTERVAL:PT15M
X-PUBLISHED-TTL:PT15M
X-WR-CALNAME:North West
NAME:North West
BEGIN:VTIMEZONE
TZID:Europe/London
TZURL:https://tzurl.org/zoneinfo/Europe/London
X-LIC-LOCATION:Europe/London
BEGIN:DAYLIGHT
TZOFFSETFROM:+0000
TZOFFSETTO:+0100
TZNAME:BST
DTSTART:20250330T020000Z
RRULE:FREQ=YEARLY;BYMONTH=3;BYDAY=-1SU
END:DAYLIGHT
BEGIN:STANDARD
TZOFFSETFROM:+0100
TZOFFSETTO:+0000
TZNAME:GMT
DTSTART:20251026T020000Z
RRULE:FREQ=YEARLY;BYMONTH=10;BYDAY=-1SU
END:STANDARD
END:VTIMEZONE
BEGIN:VEVENT
SUMMARY:THE POTTERIES SWIM (TPS) Newcastle-under-Lyme
DTSTAMP:20250126T102357Z
SEQUENCE:0
UID:9222-5-0712e666d78c35a5e0181a336d457050@bn.org.uk
ORGANIZER;CN="Alain":notifications@bn.org.uk
DESCRIPTION:\n Potteries Naturist Swimming ClubWe are a friendly club\,
	 open to all naturists over 18. Why not give it a try - swim and relax i
	n a pleasant\, friendly environment. A naturist swim is just like using an
	y other public pool\, but without costumes. The same standard of behaviour
	 is required as would be expected at a conventional public swim.We are a m
	ember club of British Naturism.We meet on alternate Sundays at:Jubilee Bat
	hs\,80 Brunswick PlaceNewcastle under LymeStaffs.\, ST5 1HG.From 19:30 to 
	20:30Club weblink WITH 2025 DATES ThePotteriesSwimThePotteriesSwimTHE POT
	TERIES SWIM\nNaturist Swimming Club (over 18 only)\nWe are a friendly club
	\, open to all genuine adult naturists. Why not give it a try - swim and r
	elax in a pleasant\, friendly environment. A n... NEW EMAIL ADDRESS: Pot
	tersswim@gmail.com2025 SWIM DATES\n May 2025:\nSunday\, 11th Sunday\, 25
	thJune 2025:\nSunday 8th\, Sunday 22ndJuly 2025:\nSunday 6th Sunday\, 20t
	hAugust 2025:\nSunday\, 3rd Sunday\, 17th Sunday\, 31stSeptember 2025:\n
	Sunday\, 14th Sunday\, 28thOctober 2025:\nSunday\, 12th Sunday\, 26thNov
	ember 2025:\nSunday\, 9th Sunday\, 23rdDecember 2025:\nSunday\, 7th Clos
	ed for ChristmasNotice Board:Swims have now restarted\, alternate SUNDAYS
	 from 19:30 - 20:30. (Note shorter time than previously). Entrance charge
	s have been reduced to reflect the reduction in facilities -- they will be
	 further reviewed at the next AGM.(CASH ONLY ACCEPTED)Please try to arrive
	 10 / 15 minutes before the session starts. The café has currently reope
	ned it’s sitting area but there’s no food or drink café provision on
	 Sundays\, just a couple of machines for canned drinks &amp\; snacks. At 
	the end of the session\, please be ready to depart promptly -- by 20:40. T
	his is to give the staff time to clean before they leave.Only the smaller\
	, 12m pool is available - the fitness equipment is no longer in place. The
	 pool itself due to its depth is NOT SUITABLE FOR CHILDREN. The sauna sui
	te no longer exists.There may be changes to the entrance charges in due co
	urse\, depending on numbers attending. More details will be posted when kn
	own.FIRST TIME VISITORS\, you’ll be required to complete a form &amp\; p
	roduce official photographic ID or your BN card\, thank you. \n\n  * P
	hoto permission kindly given by a friend &amp\; YBN member for the promot
	ion of our swim.\n\n
DTSTART:20250706T183000Z
DTEND:20250706T193000Z
END:VEVENT
END:VCALENDAR
