BEGIN:VCALENDAR
VERSION:2.0
PRODID:-//InvisionCommunity Events 5.0.18//EN
METHOD:PUBLISH
CALSCALE:GREGORIAN
REFRESH-INTERVAL:PT15M
X-PUBLISHED-TTL:PT15M
X-WR-CALNAME:North West
NAME:North West
BEGIN:VTIMEZONE
TZID:Europe/London
TZURL:https://tzurl.org/zoneinfo/Europe/London
X-LIC-LOCATION:Europe/London
BEGIN:DAYLIGHT
TZOFFSETFROM:+0000
TZOFFSETTO:+0100
TZNAME:BST
DTSTART:20250330T020000Z
RRULE:FREQ=YEARLY;BYMONTH=3;BYDAY=-1SU
END:DAYLIGHT
BEGIN:STANDARD
TZOFFSETFROM:+0100
TZOFFSETTO:+0000
TZNAME:GMT
DTSTART:20251026T020000Z
RRULE:FREQ=YEARLY;BYMONTH=10;BYDAY=-1SU
END:STANDARD
END:VTIMEZONE
BEGIN:VEVENT
SUMMARY:THE POTTERIES SWIM (TPS) Newcastle-under-Lyme
DTSTAMP:20250126T101806Z
SEQUENCE:0
UID:9220-5-0712e666d78c35a5e0181a336d457050@bn.org.uk
ORGANIZER;CN="Alain":notifications@bn.org.uk
DESCRIPTION:\n Potteries Naturist Swimming ClubWe are a friendly club\,
	 open to all naturists over 18. Why not give it a try - swim and relax i
	n a pleasant\, friendly environment. A naturist swim is just like using an
	y other public pool\, but without costumes. The same standard of behaviour
	 is required as would be expected at a conventional public swim.We are a m
	ember club of British Naturism.We meet on alternate Sundays at:Jubilee Bat
	hs\,Nelson Place\,Newcastle under LymeStaffs.\, ST5 1HG.From 19:30 to 20:3
	0Club weblink WITH 2025 DATES  New email contact for swim enquiries:pot
	tersswim@gmail.com2025 SWIM DATESJanuary 2025:\nSunday\, 5th Sunday\, 19th
	February 2025:\nSunday\, 2nd Sunday\, 16thMarch 2025:\nSunday\, 2nd Sunday
	\, 16th Sunday\, 30thApril 2025:\nSunday\, 13th Sunday\, 27thMay 2025:\nSu
	nday\, 11th Sunday\, 25thJune 2025:\nSunday 8th\, Sunday 22ndJuly 2025:\nS
	unday 6th Sunday\, 20thAugust 2025:\nSunday\, 3rd Sunday\, 17th Sunday\, 
	31stSeptember 2025:\nSunday\, 14th Sunday\, 28thOctober 2025:\nSunday\, 12
	th Sunday\, 26thNovember 2025:\nSunday\, 9th Sunday\, 23rdDecember 2025:\n
	Sunday\, 7th Closed for ChristmasNotice Board:Swims have now restarted\, 
	alternate SUNDAYS from 19:30 - 20:30. (Note shorter time than previously)
	. Entrance charges have been reduced to reflect the reduction in facilitie
	s -- they will be further reviewed at the next AGM.(CASH ONLY ACCEPTED)Ple
	ase try to arrive 10 / 15 minutes before the session starts. The café ha
	s currently reopened it’s sitting area but there’s no food or drink 
	café provision on Sundays\, just a couple of machines for canned drinks &
	amp\; snacks. At the end of the session\, please be ready to depart promp
	tly -- by 20:40. This is to give the staff time to clean before they leave
	.Only the smaller\, 12m pool is available - the fitness equipment is no lo
	nger in place. The pool itself due to its depth is NOT SUITABLE FOR CHILDR
	EN. The sauna suite no longer exists.There may be changes to the entrance
	 charges in due course\, depending on numbers attending. More details will
	 be posted when known.FIRST TIME VISITORS\, you’ll be required to comple
	te a form &amp\; produce official photographic ID or your BN card\, thank
	 you. \n\n  * Photo permission kindly given by a friend &amp\; YBN mem
	ber for the promotion of our swim *   
DTSTART:20250608T183000Z
DTEND:20250608T193000Z
END:VEVENT
END:VCALENDAR
