BEGIN:VCALENDAR
VERSION:2.0
PRODID:-//InvisionCommunity Events 5.0.18//EN
METHOD:PUBLISH
CALSCALE:GREGORIAN
REFRESH-INTERVAL:PT15M
X-PUBLISHED-TTL:PT15M
X-WR-CALNAME:North West
NAME:North West
BEGIN:VTIMEZONE
TZID:Europe/London
TZURL:https://tzurl.org/zoneinfo/Europe/London
X-LIC-LOCATION:Europe/London
BEGIN:DAYLIGHT
TZOFFSETFROM:+0000
TZOFFSETTO:+0100
TZNAME:BST
DTSTART:20250330T020000Z
RRULE:FREQ=YEARLY;BYMONTH=3;BYDAY=-1SU
END:DAYLIGHT
BEGIN:STANDARD
TZOFFSETFROM:+0100
TZOFFSETTO:+0000
TZNAME:GMT
DTSTART:20251026T020000Z
RRULE:FREQ=YEARLY;BYMONTH=10;BYDAY=-1SU
END:STANDARD
END:VTIMEZONE
BEGIN:VEVENT
SUMMARY:THE POTTERIES SWIM (TPS) Newcastle-under-Lyme
DTSTAMP:20250126T101705Z
SEQUENCE:0
UID:9218-5-0712e666d78c35a5e0181a336d457050@bn.org.uk
ORGANIZER;CN="Alain":notifications@bn.org.uk
DESCRIPTION:\n	\n\n	 \n\n\n\n	Potteries Naturist Swimming Club\n\n\n\n	
	We are a friendly club\, open to all naturists over 18. Why not give it a
	 try - swim and relax in a pleasant\, friendly environment. A naturist sw
	im is just like using any other public pool\, but without costumes. The sa
	me standard of behaviour is required as would be expected at a conventiona
	l public swim.\n\n\n\n	We are a member club of British Naturism.\n\n\n\n	W
	e meet on alternate Sundays at:\n\n\n\n	Jubilee Baths\,\n\n\n\n	Nelson Pla
	ce\,\n\n\n\n	Newcastle under Lyme\n\n\n\n	Staffs.\, ST5 1HG.\n\n\n\n	From 
	19:30 to 20:30\n\n\n\n	Club weblink WITH 2025 DATES \n\n\n\n	https://site
	s.google.com/site/thepotteriesswim/home\n\n\n\n	 \n\n\n\n	NEW EMAIL ADDRE
	SS:\n\n\n\n	Pottersswim@gmail.com\n\n\n\n	2025 SWIM DATES\n\n	 \n\n\n\n	M
	ay 2025:\n\n	Sunday\, 11th Sunday\, 25th\n\n\n\n	June 2025:\n\n	Sunday 8t
	h\, Sunday 22nd\n\n\n\n	July 2025:\n\n	Sunday 6th Sunday\, 20th\n\n\n\n	A
	ugust 2025:\n\n	Sunday\, 3rd Sunday\, 17th Sunday\, 31st\n\n\n\n	Septemb
	er 2025:\n\n	Sunday\, 14th Sunday\, 28th\n\n\n\n	October 2025:\n\n	Sunday
	\, 12th Sunday\, 26th\n\n\n\n	November 2025:\n\n	Sunday\, 9th Sunday\, 2
	3rd\n\n\n\n	December 2025:\n\n	Sunday\, 7th Closed for Christmas\n\n\n\n	
	Notice Board:\n\n\n\n	Swims have now restarted\, alternate SUNDAYS from 1
	9:30 - 20:30. (Note shorter time than previously). Entrance charges have b
	een reduced to reflect the reduction in facilities -- they will be further
	 reviewed at the next AGM. \n\n\n\n	(CASH ONLY ACCEPTED)\n\n\n\n	\n\n\n\n	
	\n		\n			* Photo permission kindly given by a friend &amp\; YBN member fo
	r the promotion of our swim *\n		\n	\n	\n		\n			\n\n			Please try to arr
	ive 10 / 15 minutes before the session starts. The café has currently re
	opened it’s sitting area but there’s no food or drink café provision
	 on Sundays\, just a couple of machines for canned drinks &amp\; snacks. 
	\n		\n	\n	\n		\n			At the end of the session\, please be ready to depart p
	romptly -- by 20:40. This is to give the staff time to clean before they l
	eave.\n		\n	\n\n\n\n	Only the smaller\, 12m pool is available - the fitnes
	s equipment is no longer in place. The pool itself due to its depth is NOT
	 SUITABLE FOR CHILDREN. \n\n\n\n	The sauna suite no longer exists.\n\n\n\
	n	There may be changes to the entrance charges in due course\, depending o
	n numbers attending. More details will be posted when known.\n\n\n\n	FIRST
	 TIME VISITORS\, you’ll be required to complete a form &amp\; produce of
	ficial photographic ID or your BN card\, thank you. \n\n	 \n\n\n\n	\n\n
DTSTART:20250511T183000Z
DTEND:20250511T193000Z
END:VEVENT
END:VCALENDAR
