BEGIN:VCALENDAR
VERSION:2.0
PRODID:-//InvisionCommunity Events 5.0.18//EN
METHOD:PUBLISH
CALSCALE:GREGORIAN
REFRESH-INTERVAL:PT15M
X-PUBLISHED-TTL:PT15M
X-WR-CALNAME:North West
NAME:North West
BEGIN:VTIMEZONE
TZID:Europe/London
TZURL:https://tzurl.org/zoneinfo/Europe/London
X-LIC-LOCATION:Europe/London
BEGIN:DAYLIGHT
TZOFFSETFROM:+0000
TZOFFSETTO:+0100
TZNAME:BST
DTSTART:20250330T020000Z
RRULE:FREQ=YEARLY;BYMONTH=3;BYDAY=-1SU
END:DAYLIGHT
BEGIN:STANDARD
TZOFFSETFROM:+0100
TZOFFSETTO:+0000
TZNAME:GMT
DTSTART:20251026T020000Z
RRULE:FREQ=YEARLY;BYMONTH=10;BYDAY=-1SU
END:STANDARD
END:VTIMEZONE
BEGIN:VEVENT
SUMMARY:THE POTTERIES SWIM (TPS) Newcastle-under-Lyme
DTSTAMP:20250126T101640Z
SEQUENCE:0
UID:9217-5-0712e666d78c35a5e0181a336d457050@bn.org.uk
ORGANIZER;CN="Alain":notifications@bn.org.uk
DESCRIPTION:\n	\n\n	 \n\n\n\n	Potteries Naturist Swimming Club\n\n\n\n	
	We are a friendly club\, open to all naturists over 18. Why not give it a
	 try - swim and relax in a pleasant\, friendly environment. A naturist sw
	im is just like using any other public pool\, but without costumes. The sa
	me standard of behaviour is required as would be expected at a conventiona
	l public swim.\n\n\n\n	We are a member club of British Naturism.\n\n\n\n	W
	e meet on alternate Sundays at:\n\n\n\n	Jubilee Baths\,\n\n\n\n	Nelson Pla
	ce\,\n\n\n\n	Newcastle under Lyme\n\n\n\n	Staffs.\, ST5 1HG.\n\n\n\n	From 
	19:30 to 20:30\n\n\n\n	 \n\n\n\n	More information from TPS on the club we
	bsite:\n\n	https://sites.google.com/site/thepotteriesswim/home\n\n\n\n	New
	 email contact for swim enquiries:\n\n\n\n	Potterswim@gmail.com\n\n\n\n	\n
	\n\n\n	* Photo permission kindly given by a friend &amp\; YBN member for 
	the promotion of our swim *\n\n\n\n	2025 SWIM DATES\n\n\n\n	January 2025
	:\n\n	Sunday\, 5th  Sunday\, 19th\n\n\n\n	February 2025:\n\n	Sunday\, 2nd 
	 Sunday\, 16th\n\n\n\n	March 2025:\n\n	Sunday\, 2nd  Sunday\, 16th  Sunday
	\, 30th\n\n\n\n	April 2025:\n\n	Sunday\, 13th  Sunday\, 27th\n\n\n\n	May 2
	025:\n\n	Sunday\, 11th  Sunday\, 25th\n\n\n\n	June 2025:\n\n	Sunday\, 1st 
	  Sunday\, 15th  Sunday\, 30th\n\n\n\n	July 2025:\n\n	Sunday\, 13th  Sunda
	y\, 27th\n\n\n\n	August 2025:\n\n	Sunday\, 3rd  Sunday\, 17th  Sunday\, 31
	st\n\n\n\n	September 2025:\n\n	Sunday\, 14th  Sunday\, 28th\n\n\n\n	Octobe
	r 2025:\n\n	Sunday\, 12th  Sunday\, 26th\n\n\n\n	November 2025:\n\n	Sunday
	\, 9th  Sunday\, 23rd\n\n\n\n	December 2025:\n\n	Sunday\, 7th Closed for 
	Christmas\n\n\n\n	Notice Board:\n\n\n\n	Swims have now restarted\, alterna
	te SUNDAYS from 19:30 - 20:30. (Note shorter time than previously). Entra
	nce charges have been reduced to reflect the reduction in facilities -- th
	ey will be further reviewed at the next AGM. \n\n\n\n	(CASH ONLY ACCEPTED)
	\n\n\n\n	\n		\n			Please try to arrive 10 / 15 minutes before the session
	 starts. The café has currently reopened it’s sitting area but there
	’s no food or drink café provision on Sundays\, just a couple of machin
	es for canned drinks &amp\; snacks. \n		\n	\n	\n		\n			At the end of the 
	session\, please be ready to depart promptly -- by 20:40. This is to give 
	the staff time to clean before they leave.\n		\n	\n\n\n\n	Only the smaller
	\, 12m pool is available - the fitness equipment is no longer in place. Th
	e pool itself due to its depth is NOT SUITABLE FOR CHILDREN. \n\n\n\n	The
	 sauna suite no longer exists.\n\n\n\n	There may be changes to the entranc
	e charges in due course\, depending on numbers attending. More details wil
	l be posted when known.\n\n\n\n	FIRST TIME VISITORS\, you’ll be required
	 to complete a form &amp\; produce official photographic ID or your BN ca
	rd\, thank you. \n\n\n\n	\n\n
DTSTART:20250427T183000Z
DTEND:20250427T193000Z
END:VEVENT
END:VCALENDAR
