BEGIN:VCALENDAR
VERSION:2.0
PRODID:-//InvisionCommunity Events 5.0.18//EN
METHOD:PUBLISH
CALSCALE:GREGORIAN
REFRESH-INTERVAL:PT15M
X-PUBLISHED-TTL:PT15M
X-WR-CALNAME:North West
NAME:North West
BEGIN:VTIMEZONE
TZID:Europe/London
TZURL:https://tzurl.org/zoneinfo/Europe/London
X-LIC-LOCATION:Europe/London
BEGIN:DAYLIGHT
TZOFFSETFROM:+0000
TZOFFSETTO:+0100
TZNAME:BST
DTSTART:20250330T020000Z
RRULE:FREQ=YEARLY;BYMONTH=3;BYDAY=-1SU
END:DAYLIGHT
BEGIN:STANDARD
TZOFFSETFROM:+0100
TZOFFSETTO:+0000
TZNAME:GMT
DTSTART:20251026T020000Z
RRULE:FREQ=YEARLY;BYMONTH=10;BYDAY=-1SU
END:STANDARD
END:VTIMEZONE
BEGIN:VEVENT
SUMMARY:20/12/25 CANCELLED -NORTH-WEST NATURISTS (Worsley Swim)
DTSTAMP:20250126T100128Z
SEQUENCE:0
UID:9210-5-0712e666d78c35a5e0181a336d457050@bn.org.uk
ORGANIZER;CN="Alain":notifications@bn.org.uk
DESCRIPTION:THE DECEMBER 20th SWIM IS CANCELLED DUE TO HEATING REPAIRS A
	LL ALONG DECEMBER.THE NEXT SWIM SESSION AT WORSLEY WILL BE ON SATURDAY 31s
	t JANUARY 2026. Due to unforeseen delays  with the heating system upgrade\
	, it hasn’t been possible to arrange two swim sessions as planned in Jan
	uary. We are very sorry and the North West Naturists Team wish  you all a 
	safe &amp\; joyful festive season \nSwims are usually on the last Saturday
	 of the month apart from December. Our usual time is 4.30pm and we are giv
	en  a 3 hour slot by the leisure centre.\n Please note: “Though we w
	ould like you to be there at the start\, please do not enter the building 
	and start queueing until 10 minutes before our start time at the earliest 
	to allow members of the public to leave.” 16.30 to 19.30 at Worsley poo
	l Complex\, Walkden. M28 3ABThe club is a friendly safeguarded swim run b
	y members for members where the simple pleasure of naturism is enjoyed by 
	both younger and older members in a warm safe environment.Enjoy warm pools
	 for swimming and exercise\, sauna and steam rooms for detoxification and 
	de-stress\, lounge for rest and refreshment.Open to all BN members and c
	ontinental style naturists who enjoy acceptance of naturism as part of a h
	ealthy life.No membership required.Qualified therapeutic care available in
	 the form of professional MASSAGE  and healing. Please sign in for a mass
	age as you pay you money on entrance.  LATEST INFO FROM OUR CLUB WEBSITE
	:www.northwestnaturists.co.ukOur club is taking an active part in the BN G
	reat British Skinnydip current campaign:https://www.greatbritishskinnydip.
	co.uk CONTACTING USNew Visitors: Contact us for registration before atten
	ding.Email us at nwnswim@googlemail.comPlease email including your full na
	me and home address\, plus a home phone number if you have one if not your
	 mobile number.Phone us on 0798466395407527917374Please bring official pho
	tographic  ID on your first visit. Unfortunately anyone turning up who i
	sn't known to us (previous attendance\, newcomer we've been in contact wit
	h) cannot be allowed entry.  The cost per person for the 3 hour event is
	Standard £10Members of British naturism £5:00 (a valid BN card must be s
	hown)Students on production of students ID £5CASH ONLY ( Lockers are avai
	lable but require a refundable £1 coin)  As we are affiliated with Brit
	ish Naturism we prefer everyone who attends our events to be members of Br
	itish Naturism\, There are many benefits to membership which include acces
	s to many swims and clubs\, access to the BN website and forums where fr
	iendship and advice about all things naturist in this country and abroad c
	an be found\, Please consider joining BN however if you’re not a BN 
	member please contact us as we welcome all genuine naturists and of course
	 those who are new to naturism.Remember unacceptable behavour will not be 
	tolerated. Refreshments will be available: hot and cold drinks plus rolls
	/sandwiches\, snack etc.Sauna and steam rooms are available throughout the
	 sessions  but please limit your time in them to give everyone the opport
	unity to enjoy those facilities.Past experience tells us that it is prefer
	able to speak to newcomers before they attend. 
DTSTART:20251220T000000Z
END:VEVENT
END:VCALENDAR
