BEGIN:VCALENDAR
VERSION:2.0
PRODID:-//InvisionCommunity Events 5.0.18//EN
METHOD:PUBLISH
CALSCALE:GREGORIAN
REFRESH-INTERVAL:PT15M
X-PUBLISHED-TTL:PT15M
X-WR-CALNAME:North West
NAME:North West
BEGIN:VTIMEZONE
TZID:Europe/London
TZURL:https://tzurl.org/zoneinfo/Europe/London
X-LIC-LOCATION:Europe/London
BEGIN:DAYLIGHT
TZOFFSETFROM:+0000
TZOFFSETTO:+0100
TZNAME:BST
DTSTART:20260329T020000Z
RRULE:FREQ=YEARLY;BYMONTH=3;BYDAY=-1SU
END:DAYLIGHT
BEGIN:STANDARD
TZOFFSETFROM:+0100
TZOFFSETTO:+0000
TZNAME:GMT
DTSTART:20261025T020000Z
RRULE:FREQ=YEARLY;BYMONTH=10;BYDAY=-1SU
END:STANDARD
END:VTIMEZONE
BEGIN:VEVENT
SUMMARY:NORTH-WEST NATURISTS (Worsley Swim)
DTSTAMP:20250126T100053Z
SEQUENCE:0
UID:9209-5-0712e666d78c35a5e0181a336d457050@bn.org.uk
ORGANIZER;CN="Alain":notifications@bn.org.uk
DESCRIPTION:Saturday Swim Dates for 2026Swims will resume in January 202
	6. It was hoped that there could be 2 swims in January\, but there will on
	ly be one.                          January  31
	stFebruary 28thMarch 28thApril 25thMay 30thJune 27thJuly 25thAugust 29thSe
	ptember  26thOctober 31stNovember 28thDecember 19th\nSwims are usually on
	 the last Saturday of the month apart from December. Our usual time is 4.3
	0pm and we are given  a 3 hour slot by the leisure centre.\n Please no
	te: “Though we would like you to be there at the start\, please do not 
	enter the building and start queueing until 10 minutes before our start ti
	me at the earliest to allow members of the public to leave.” 16.30 to 1
	9.30 at Worsley pool Complex\, Walkden. M28 3ABThe club is a friendly saf
	eguarded swim run by members for members where the simple pleasure of natu
	rism is enjoyed by both younger and older members in a warm safe environme
	nt.Enjoy warm pools for swimming and exercise\, sauna and steam rooms for 
	detoxification and de-stress\, lounge for rest and refreshment.Open to all
	 BN members and continental style naturists who enjoy acceptance of natu
	rism as part of a healthy life.No membership required.Qualified therapeuti
	c care available in the form of professional MASSAGE  and healing. Please
	 sign in for a massage as you pay you money on entrance.  Latest info up
	dates on our Club website:www.northwestnaturists.co.ukOur club is taking a
	n active part in the BN Great British Skinnydip current campaign:https://w
	ww.greatbritishskinnydip.co.uk CONTACTING USNew Visitors: Contact us for 
	registration before attending.Email us at nwnswim@googlemail.comPlease ema
	il including your full name and home address\, plus a home phone number if
	 you have one if not your mobile number.Phone us on 0798466395407527917374
	Please bring official photographic  ID on your first visit. Unfortunatel
	y anyone turning up who isn't known to us (previous attendance\, newcomer 
	we've been in contact with) cannot be allowed entry.  The cost per perso
	n for the 3 hour event isStandard £10Members of British naturism\, presen
	t fee £5.00 (a valid BN card must be shown at the desk )Students on produ
	ction of current students ID £5:00CASH ONLY ( Lockers are available but r
	equire a refundable £1 coin)  As we are affiliated with British Naturis
	m we prefer everyone who attends our events to be members of British Natur
	ism\, There are many benefits to membership which include access to many s
	wims and clubs\, access to the BN website and forums where friendship an
	d advice about all things naturist in this country and abroad can be found
	\, Please consider joining BN however if you’re not a BN member plea
	se contact us as we welcome all genuine naturists and of course those who 
	are new to naturism. Refreshments will be available: hot and cold drinks 
	plus rolls/sandwiches\, snack etc.Sauna and steam rooms are available thro
	ughout the sessions  but please limit your time in them to give everyone 
	the opportunity to enjoy those facilities.Past experience tells us that it
	 is preferable to speak to newcomers before they attend.Remember unaccepta
	ble behavour will not be tolerated.If anyone has any concerns whatsoever a
	bout the swims\, e.g. such as any possible unacceptable or inappropriate b
	ehaviour\, please approach one of the organisers identified by green wrist
	 bands at the time and not later – please do not delay so that any incid
	ents can be investigated in strictest confidence as soon as possible. 
DTSTART:20260131T163000Z
DTEND:20260131T193000Z
END:VEVENT
END:VCALENDAR
