BEGIN:VCALENDAR
VERSION:2.0
PRODID:-//InvisionCommunity Events 5.0.18//EN
METHOD:PUBLISH
CALSCALE:GREGORIAN
REFRESH-INTERVAL:PT15M
X-PUBLISHED-TTL:PT15M
X-WR-CALNAME:North West
NAME:North West
BEGIN:VTIMEZONE
TZID:Europe/London
TZURL:https://tzurl.org/zoneinfo/Europe/London
X-LIC-LOCATION:Europe/London
BEGIN:DAYLIGHT
TZOFFSETFROM:+0000
TZOFFSETTO:+0100
TZNAME:BST
DTSTART:20250330T020000Z
RRULE:FREQ=YEARLY;BYMONTH=3;BYDAY=-1SU
END:DAYLIGHT
BEGIN:STANDARD
TZOFFSETFROM:+0100
TZOFFSETTO:+0000
TZNAME:GMT
DTSTART:20251026T020000Z
RRULE:FREQ=YEARLY;BYMONTH=10;BYDAY=-1SU
END:STANDARD
END:VTIMEZONE
BEGIN:VEVENT
SUMMARY:NORTH-WEST NATURISTS (Worsley Swim)
DTSTAMP:20250126T095855Z
SEQUENCE:0
UID:9205-5-0712e666d78c35a5e0181a336d457050@bn.org.uk
ORGANIZER;CN="Alain":notifications@bn.org.uk
DESCRIPTION:Saturday Swim Dates for 2025January 25thFebruary 22ndMarch 2
	9thApril 26thMay 31stJune 28th July 26th ✅PLEASE NOTE:SMALL POOLS UNAVA
	ILABLE DUE TO REPAIRS THIS SATURDAY 26th JULY. ALL OTHER FACILITIES WORKIN
	G AS USUAL.August 30th September27thOctober 25thNovember 29th December 1
	3th  (earlier date 🎄) \nSwims are usually on the last Saturday of the
	 month apart from December. Our usual time is 4.30pm and we are given  a
	 3 hour slot by the leisure centre.\n “Though we would like you to be 
	there at the start\, please do not enter the building and start queueing u
	ntil 10 minutes before our start time at the earliest to allow members of 
	the public to leave.” 16.30 to 19.30 at Worsley pool Complex\, Walkden.
	 M28 3ABThe club is a friendly safeguarded swim run by members for member
	s where the simple pleasure of naturism is enjoyed by both younger and old
	er members in a warm safe environment.Enjoy warm pools for swimming and ex
	ercise\, sauna and steam rooms for detoxification and de-stress\, lounge f
	or rest and refreshment.Open to all BN members and continental style nat
	urists who enjoy acceptance of naturism as part of a healthy life.No membe
	rship required.Qualified therapeutic care available in the form of profess
	ional MASSAGE  and healing. Please sign in for a massage as you pay you m
	oney on entrance.  Club website:www.northwestnaturists.co.ukOur club is 
	taking an active part in the BN Great British Skinnydip current campaign:h
	ttps://www.greatbritishskinnydip.co.uk CONTACTING USNew Visitors: Contact
	 us for registration before attending.Email us at nwnswim@googlemail.comPl
	ease email including your full name and home address\, plus a home phone n
	umber if you have one if not your mobile number.Phone us on 07984663954075
	27917374Please bring official photographic  ID on your first visit. Unfo
	rtunately anyone turning up who isn't known to us (previous attendance\, n
	ewcomer we've been in contact with) cannot be allowed entry.  The cost p
	er person for the 3 hour event isStandard £10Members of British naturism
	 £7.50 (a valid BN card must be shown)Students on production of students 
	ID £5CASH ONLY ( Lockers are available but require a refundable £1 coi
	n)  As we are affiliated with British Naturism we prefer everyone who at
	tends our events to be members of British Naturism\, There are many benefi
	ts to membership which include access to many swims and clubs\, access to 
	the BN website and forums where friendship and advice about all things n
	aturist in this country and abroad can be found\, Please consider joining
	 BN however if you’re not a BN member please contact us as we welcom
	e all genuine naturists and of course those who are new to naturism.Rememb
	er unacceptable behavour will not be tolerated. Refreshments will be avai
	lable: hot and cold drinks plus rolls/sandwiches\, snack etc.Sauna and ste
	am rooms are available throughout the sessions  but please limit your tim
	e in them to give everyone the opportunity to enjoy those facilities.Past 
	experience tells us that it is preferable to speak to newcomers before the
	y attend. 
DTSTART:20250726T153000Z
DTEND:20250726T183000Z
END:VEVENT
END:VCALENDAR
