BEGIN:VCALENDAR
VERSION:2.0
PRODID:-//InvisionCommunity Events 5.0.18//EN
METHOD:PUBLISH
CALSCALE:GREGORIAN
REFRESH-INTERVAL:PT15M
X-PUBLISHED-TTL:PT15M
X-WR-CALNAME:Yorkshire and East Midlands
NAME:Yorkshire and East Midlands
BEGIN:VTIMEZONE
TZID:Europe/London
TZURL:https://tzurl.org/zoneinfo/Europe/London
X-LIC-LOCATION:Europe/London
BEGIN:DAYLIGHT
TZOFFSETFROM:+0000
TZOFFSETTO:+0100
TZNAME:BST
DTSTART:20250330T020000Z
RRULE:FREQ=YEARLY;BYMONTH=3;BYDAY=-1SU
END:DAYLIGHT
BEGIN:STANDARD
TZOFFSETFROM:+0100
TZOFFSETTO:+0000
TZNAME:GMT
DTSTART:20251026T020000Z
RRULE:FREQ=YEARLY;BYMONTH=10;BYDAY=-1SU
END:STANDARD
END:VTIMEZONE
BEGIN:VEVENT
SUMMARY:Yorks & E.Mids walks - Scorborough\, Leconfield
DTSTAMP:20250124T103850Z
SEQUENCE:0
UID:9196-6-0712e666d78c35a5e0181a336d457050@bn.org.uk
ORGANIZER;CN="sarah7":notifications@bn.org.uk
DESCRIPTION:\n	Scorborough Naturist Walk – 25 May 2025\n\n\n\n	Join us
	 for a 5 mile naturist walk starting at/returning to Scorborough\, Leconfi
	eld\, located 2.5 miles to the north of Beverley. \n\n\n\n	The walk is com
	pletely flat\, passing through grassland\, agricultural fields and open co
	untryside\, with stunning views . The figure of 8 route follows a network 
	of public footpaths and bridleways including the Minster Way\, before head
	ing back to the start point across open countryside.\n\n\n\n	The event is 
	being organised by British Naturism and is open to all members\, and other
	s interested in naked walking. When booking\, please state whether you are
	 a member of British Naturism or another naturist group and provide your e
	mail address and mobile phone number.\n\n\n\n	For further information or t
	o book onto the event\, contact Sarah White via email: sarah.white@bn.org.
	uk. Details of the meeting point and other information will be provided wh
	en your booking is confirmed.\n\n\n\n\n\n\n\n\n\n\n\n\n\n
DTSTART:20250525T100000Z
END:VEVENT
END:VCALENDAR
