BEGIN:VCALENDAR
VERSION:2.0
PRODID:-//InvisionCommunity Events 5.0.18//EN
METHOD:PUBLISH
CALSCALE:GREGORIAN
REFRESH-INTERVAL:PT15M
X-PUBLISHED-TTL:PT15M
X-WR-CALNAME:Yorkshire and East Midlands
NAME:Yorkshire and East Midlands
BEGIN:VTIMEZONE
TZID:Europe/London
TZURL:https://tzurl.org/zoneinfo/Europe/London
X-LIC-LOCATION:Europe/London
BEGIN:DAYLIGHT
TZOFFSETFROM:+0000
TZOFFSETTO:+0100
TZNAME:BST
DTSTART:20250330T020000Z
RRULE:FREQ=YEARLY;BYMONTH=3;BYDAY=-1SU
END:DAYLIGHT
BEGIN:STANDARD
TZOFFSETFROM:+0100
TZOFFSETTO:+0000
TZNAME:GMT
DTSTART:20251026T020000Z
RRULE:FREQ=YEARLY;BYMONTH=10;BYDAY=-1SU
END:STANDARD
END:VTIMEZONE
BEGIN:VEVENT
SUMMARY:Boules Taster Day - Valley Sun Club Harrogate
DTSTAMP:20250121T183055Z
SEQUENCE:0
UID:9192-6-0712e666d78c35a5e0181a336d457050@bn.org.uk
ORGANIZER;CN="Ian Munt":notifications@bn.org.uk
DESCRIPTION:\n	\n		\n			\n				\n					\n						\n							\n								\n						
				 \n								\n							\n						\n					\n				\n			\n		\n	\n\n\n\n	\n		\n		
		\n				\n					\n						\n							Boules Taster Day\n						\n					\n				\n			
	\n		\n	\n\n\n\n	\n		\n			\n				\n					\n						\n							\n								\n							
			\n										Saturday August 9th 2025\n									\n								\n							\n				
			\n					\n\n					\n						\n							\n								\n									\n										Whethe
	r you're a complete beginner or a regular player\, we're delighted to invi
	te you to a naturist Boules Taster Day at Valley Club in Harrogate.\n					
					\n\n									\n										 \n									\n\n									\n										We'll s
	tart the day with some gentle tuition\, before breaking for lunch and then
	 having a friendly competition in the afternoon. You're welcome to explore
	 the rest of the club's facilities when you're not playing - there are exp
	ansive lawns giving plenty of space in which to sunbathe\, although there 
	is no expectation that anyone will undress if the weather is cool. \n				
						\n\n									\n										 \n									\n\n									\n										The pr
	ice for the day is £15 per person - this includes your day visit charge\,
	 tuition and light refreshments (drinks and cake). To book\, please use t
	he form below\; we will then contact you to arrange payment\n									\n\
	n									\n										 \n									\n\n									\n										Provisional Ti
	metable – Times are approximate\n									\n\n									\n										 \n	
									\n\n									\n										\n											1000-1100:   Arrival and r
	efreshments\n										\n										\n											1100-1230:   Boules tuit
	ion and friendly games\n										\n										\n											1230-1400:   
	Break. Picnic lunches and time to enjoy the club’s facilities\n									
		\n										\n											1400-1600:   Boules tournament\n										\n		
									\n											After 1600:    Enjoy the club’s facilities and le
	ave at your convenience. \n										\n									\n\n									\n									
		 \n									\n\n									\n										 \n									\n\n									\n							
				The clubhouse will be open and we'll be serving tea/coffee and cake thr
	oughout the day. Other drinks will be available for purchase from the club
	house bar (cash only)\, but we advise that you bring a picnic for your lun
	ch. Please also remember to bring a towel to sit or lie on and sun crea
	m – hopefully the weather will be sunny! Unless they're discrete.\n				
						\n\n									\n										 \n									\n\n									\n										We do 
	still have space available for overnight visitors\, so if you have a tent\
	, caravan or motorhome and would like to book to stay overnight on either 
	Friday or Saturday please click here.\n									\n\n									\n									
		 \n									\n\n									\n										If you have any queries about the c
	lub or about the day please use the contact form here https://valley-sun-
	club.co.uk/boules.html\n									\n\n									\n										 \n									\n	
								\n							\n						\n					\n				\n			\n		\n	\n\n
DTSTART;VALUE=DATE:20250809
END:VEVENT
END:VCALENDAR
