BEGIN:VCALENDAR
VERSION:2.0
PRODID:-//InvisionCommunity Events 5.0.18//EN
METHOD:PUBLISH
CALSCALE:GREGORIAN
REFRESH-INTERVAL:PT15M
X-PUBLISHED-TTL:PT15M
X-WR-CALNAME:Eastern
NAME:Eastern
BEGIN:VTIMEZONE
TZID:Europe/London
TZURL:https://tzurl.org/zoneinfo/Europe/London
X-LIC-LOCATION:Europe/London
BEGIN:DAYLIGHT
TZOFFSETFROM:+0000
TZOFFSETTO:+0100
TZNAME:BST
DTSTART:20260329T020000Z
RRULE:FREQ=YEARLY;BYMONTH=3;BYDAY=-1SU
END:DAYLIGHT
BEGIN:STANDARD
TZOFFSETFROM:+0100
TZOFFSETTO:+0000
TZNAME:GMT
DTSTART:20261025T020000Z
RRULE:FREQ=YEARLY;BYMONTH=10;BYDAY=-1SU
END:STANDARD
END:VTIMEZONE
BEGIN:VEVENT
SUMMARY:Suffolk Naturist Walk Near Stowmarket.
DTSTAMP:20250117T162006Z
SEQUENCE:0
UID:9179-8-0712e666d78c35a5e0181a336d457050@bn.org.uk
ORGANIZER;CN="Andrew Roch":notifications@bn.org.uk
DESCRIPTION:Naturist Walk South of Saxmundham\, Suffolk This is approxim
	ately a six mile walk in the lovely area of Suffolk\, mostly in forest but
	 with some heathland. The walk can be lengthened or shortened somewhat dep
	ending on the needs of the group. The walk is on flat terrain but there ar
	e some trip hazards.  Dogs are not permitted on this walk. If you require
	 further information please contact Andrew and Amanda\, walks co-ordinator
	s on easternwalks@bn.org.uk Further details of the walk and joining instru
	ctions will be sent to those who have registered. If you wish to register 
	please complete the form which can be accessed here. (If you are not able 
	to complete the form then send me an email with your name and mobile numbe
	r)  Register Here
DTSTART:20260603T110000Z
END:VEVENT
END:VCALENDAR
