BEGIN:VCALENDAR
VERSION:2.0
PRODID:-//InvisionCommunity Events 5.0.18//EN
METHOD:PUBLISH
CALSCALE:GREGORIAN
REFRESH-INTERVAL:PT15M
X-PUBLISHED-TTL:PT15M
X-WR-CALNAME:North West
NAME:North West
BEGIN:VTIMEZONE
TZID:Europe/London
TZURL:https://tzurl.org/zoneinfo/Europe/London
X-LIC-LOCATION:Europe/London
BEGIN:DAYLIGHT
TZOFFSETFROM:+0000
TZOFFSETTO:+0100
TZNAME:BST
DTSTART:20250330T020000Z
RRULE:FREQ=YEARLY;BYMONTH=3;BYDAY=-1SU
END:DAYLIGHT
BEGIN:STANDARD
TZOFFSETFROM:+0100
TZOFFSETTO:+0000
TZNAME:GMT
DTSTART:20251026T020000Z
RRULE:FREQ=YEARLY;BYMONTH=10;BYDAY=-1SU
END:STANDARD
END:VTIMEZONE
BEGIN:VEVENT
SUMMARY:60's/70's Dinner Dance @ Liverpool Sun & Air
DTSTAMP:20250116T105223Z
SEQUENCE:0
UID:9175-5-0712e666d78c35a5e0181a336d457050@bn.org.uk
ORGANIZER;CN="Grandma Jane":notifications@bn.org.uk
DESCRIPTION:\n	 \n\n\n\n	60's/70's Dinner Dance at Liverpool Sun &amp\;
	 Air.\n\n\n\n	 60’s &amp\; 70’s Dine &amp\; Dance\n\n	Saturday 8th Fe
	bruary 2025—7pm\n\n\n\n	£20.00 per person (with live entertainment)\n\n
	\n\n	Menu\n\n\n\n	Deep Fried Calamari accompanied with a Lemon and Tangy S
	auce (Vegetarian alternative)\n\n\n\n	or\n\n\n\n	Egg Mayonnaise served wit
	h Mixed Leaf \n\n\n\n	Slow Roasted Brisket of Beef\n\n\n\n	or\n\n\n\n	Cas
	serole of Chicken Breast\n\n\n\n	Or\n\n\n\n	Vegetable Escalope\n\n\n\n	All
	 served with Chefs Potatoes and Seasonal Vegetables \n\n\n\n	Pears Cardin
	al (Poached Pears with a Fruit Sauce)\n\n\n\n	Or\n\n\n\n	Seriously Lemon T
	art.\n\n\n\n	Remember to place your menu choice by the closing date\n\n\n\
	n	If you have any dietary requirements\, please notify us at the time of b
	ooking.\n\n\n\n	 \n\n\n\n	email: bookings@lsas.org.uk Tel : 07564 336332\
	n\n\n\n	Bacs - LSAS S/C 40-24-40 Acc 11117823 Ref: 60/70\n\n\n\n	Payment m
	ust be made within 48hrs of booking to confirm.\n\n\n\n	\n\n\n\n	Closing d
	ate for bookings is Wednesday 5th February. All events are open to members
	 and non-members\n\n\n\n	dinnerdance.pdf\n\n\n\n	 \n\n\n\n	https://lsas.o
	rg.uk/wp-content/uploads/2025/01/png-transparent-1960s-1970s-production-mu
	sic-beach-music-others.png\n\n
DTSTART;VALUE=DATE:20250208
END:VEVENT
END:VCALENDAR
