BEGIN:VCALENDAR
VERSION:2.0
PRODID:-//InvisionCommunity Events 5.0.18//EN
METHOD:PUBLISH
CALSCALE:GREGORIAN
REFRESH-INTERVAL:PT15M
X-PUBLISHED-TTL:PT15M
X-WR-CALNAME:Yorkshire and East Midlands
NAME:Yorkshire and East Midlands
BEGIN:VTIMEZONE
TZID:Europe/London
TZURL:https://tzurl.org/zoneinfo/Europe/London
X-LIC-LOCATION:Europe/London
BEGIN:DAYLIGHT
TZOFFSETFROM:+0000
TZOFFSETTO:+0100
TZNAME:BST
DTSTART:20250330T020000Z
RRULE:FREQ=YEARLY;BYMONTH=3;BYDAY=-1SU
END:DAYLIGHT
BEGIN:STANDARD
TZOFFSETFROM:+0100
TZOFFSETTO:+0000
TZNAME:GMT
DTSTART:20251026T020000Z
RRULE:FREQ=YEARLY;BYMONTH=10;BYDAY=-1SU
END:STANDARD
END:VTIMEZONE
BEGIN:VEVENT
SUMMARY:Sleaford Swim
DTSTAMP:20250113T203233Z
SEQUENCE:0
UID:9168-6-0712e666d78c35a5e0181a336d457050@bn.org.uk
ORGANIZER;CN="normanw":notifications@bn.org.uk
DESCRIPTION:\n	Change of Venue so that day could be changed back to Satu
	rday since so many could not make Fridays following Covid closure.\n\n\n\n
		Now Second and Fourth Saturday afternoons every month. 1600 - 1800\n\n\n\
	n	Venue: Better Gym\, East Road\, Sleaford\, NG34 7EH.\n\n	Probably best a
	pproached from A17 / B1517 junction (1/2 mile)\n\n\n\n	Small pool\, Gym\, 
	Squash court\, Sauna and Steam Room.\n\n\n\n	Just turn up with your towel.
	\n\n\n\n	Contact Details:\n	Email: sleafordnude@gmail.com\n\n
DTSTART:20250208T160000Z
DTEND:20250208T180000Z
END:VEVENT
END:VCALENDAR
