BEGIN:VCALENDAR
VERSION:2.0
PRODID:-//InvisionCommunity Events 5.0.18//EN
METHOD:PUBLISH
CALSCALE:GREGORIAN
REFRESH-INTERVAL:PT15M
X-PUBLISHED-TTL:PT15M
X-WR-CALNAME:Eastern
NAME:Eastern
BEGIN:VTIMEZONE
TZID:Europe/London
TZURL:https://tzurl.org/zoneinfo/Europe/London
X-LIC-LOCATION:Europe/London
BEGIN:DAYLIGHT
TZOFFSETFROM:+0000
TZOFFSETTO:+0100
TZNAME:BST
DTSTART:20250330T020000Z
RRULE:FREQ=YEARLY;BYMONTH=3;BYDAY=-1SU
END:DAYLIGHT
BEGIN:STANDARD
TZOFFSETFROM:+0100
TZOFFSETTO:+0000
TZNAME:GMT
DTSTART:20251026T020000Z
RRULE:FREQ=YEARLY;BYMONTH=10;BYDAY=-1SU
END:STANDARD
END:VTIMEZONE
BEGIN:VEVENT
SUMMARY:Naked Fitness Weekend
DTSTAMP:20250113T133934Z
SEQUENCE:0
UID:9165-8-0712e666d78c35a5e0181a336d457050@bn.org.uk
ORGANIZER;CN="Alana":notifications@bn.org.uk
DESCRIPTION:\n	Join Roy and Georgia for a Naked Fitness weekend at Sunfo
	lk.\n\n\n\n	The perfect balance of fitness\, friendship and social. The br
	eak includes all Yoga\, Group Fitness and meditation sessions. Enjoy fire-
	side chats and full use of our spa facilities and pool.\n\n\n\n	Click here
	 to book.\n\n
DTSTART:20250508T230000Z
DTEND:20250510T230000Z
END:VEVENT
END:VCALENDAR
