BEGIN:VCALENDAR
VERSION:2.0
PRODID:-//InvisionCommunity Events 5.0.18//EN
METHOD:PUBLISH
CALSCALE:GREGORIAN
REFRESH-INTERVAL:PT15M
X-PUBLISHED-TTL:PT15M
X-WR-CALNAME:London and South East (LASER)
NAME:London and South East (LASER)
BEGIN:VTIMEZONE
TZID:Europe/London
TZURL:https://tzurl.org/zoneinfo/Europe/London
X-LIC-LOCATION:Europe/London
BEGIN:DAYLIGHT
TZOFFSETFROM:+0000
TZOFFSETTO:+0100
TZNAME:BST
DTSTART:20250330T020000Z
RRULE:FREQ=YEARLY;BYMONTH=3;BYDAY=-1SU
END:DAYLIGHT
BEGIN:STANDARD
TZOFFSETFROM:+0100
TZOFFSETTO:+0000
TZNAME:GMT
DTSTART:20251026T020000Z
RRULE:FREQ=YEARLY;BYMONTH=10;BYDAY=-1SU
END:STANDARD
END:VTIMEZONE
BEGIN:VEVENT
SUMMARY:Folly Upstairs Restaurant Naked Dining
DTSTAMP:20250109T120157Z
SEQUENCE:0
UID:9158-7-0712e666d78c35a5e0181a336d457050@bn.org.uk
ORGANIZER;CN="glen.fryer":notifications@bn.org.uk
DESCRIPTION:\n	We are pleased to host our third Naked Dining Event at th
	e Folly Upstairs Restaurant in Petersfield in Hampshire on the 3rd of May.
	\n\n\n\n	The meals offered this time will be either Chicken Tikka Masala\,
	 Beef Madras or Vegetable Gobi Dal\, all come with Naan\, Bhaji and Poppad
	oms .\n\n\n\n	I understand that not everyone likes curry so there will be 
	an option of Sausages and Mash (Cumberland or Veggie) with vegetables.\n\n
	\n\n	Cost is £30 a head and will include your first drink (pint of beer\,
	 shot of spirit or a soft drink)\n\n\n\n	As stated above we are open from 
	18:30 to sit down at 19:00.\n\n\n\n	Petersfield is close to the A3 and has
	 a railway station in town.\n\n\n\n	Folly Upstairs Restaurant\, 12 College
	 Street\, Petersfield\, GU31 4AD.\n\n\n\n	Parking is free after 18:00 in t
	he Festival Hall car park opposite\, GU32 3JA.\n\n\n\n	Accommodation nearb
	y at the Premier Inn\, Winchester Road\, Petersfield\, GU32 3BS.\n\n\n\n	T
	he Half Moon Sheet\, 32 London Road\, Petersfield\, GU31 4BE\n\n\n\n	The O
	ld Drum. 16 Chapel Street\, Petersfield\, GU32 3DP\n\n\n\n	A bit further a
	way is the Trooper Inn\, Froxfield\, GU32 1BD\n\n\n\n	The Cricketers Inn\,
	 1 Church Road\, Steep\, GU32 2DW.\n\n\n\n	Tickets are available to book b
	y clicking here.\n\n\n\n	 \n\n
DTSTART:20250503T173000Z
DTEND:20250503T220000Z
ATTENDEE;CN="Ian60";CUTYPE=INDIVIDUAL;PARTSTAT=ACCEPTED:noti
	fications@bn.org.uk
ATTENDEE;CN="glen.fryer";CUTYPE=INDIVIDUAL;PARTSTAT=ACCEPTED
	:notifications@bn.org.uk
ATTENDEE;CN="Fryer20794";CUTYPE=INDIVIDUAL;PARTSTAT=ACCEPTED
	:notifications@bn.org.uk
ATTENDEE;CN="Neill Wood";CUTYPE=INDIVIDUAL;PARTSTAT=ACCEPTED
	:notifications@bn.org.uk
ATTENDEE;CN="Gray64";CUTYPE=INDIVIDUAL;PARTSTAT=ACCEPTED:not
	ifications@bn.org.uk
ATTENDEE;CN="alan.ip";CUTYPE=INDIVIDUAL;PARTSTAT=ACCEPTED:no
	tifications@bn.org.uk
ATTENDEE;CN="Dave1948";CUTYPE=INDIVIDUAL;PARTSTAT=ACCEPTED:n
	otifications@bn.org.uk
END:VEVENT
END:VCALENDAR
