BEGIN:VCALENDAR
VERSION:2.0
PRODID:-//InvisionCommunity Events 5.0.18//EN
METHOD:PUBLISH
CALSCALE:GREGORIAN
REFRESH-INTERVAL:PT15M
X-PUBLISHED-TTL:PT15M
X-WR-CALNAME:Eastern
NAME:Eastern
BEGIN:VTIMEZONE
TZID:Europe/London
TZURL:https://tzurl.org/zoneinfo/Europe/London
X-LIC-LOCATION:Europe/London
BEGIN:DAYLIGHT
TZOFFSETFROM:+0000
TZOFFSETTO:+0100
TZNAME:BST
DTSTART:20250330T020000Z
RRULE:FREQ=YEARLY;BYMONTH=3;BYDAY=-1SU
END:DAYLIGHT
BEGIN:STANDARD
TZOFFSETFROM:+0100
TZOFFSETTO:+0000
TZNAME:GMT
DTSTART:20251026T020000Z
RRULE:FREQ=YEARLY;BYMONTH=10;BYDAY=-1SU
END:STANDARD
END:VTIMEZONE
BEGIN:VEVENT
SUMMARY:Sunfolk Pride 2025
DTSTAMP:20250107T232228Z
SEQUENCE:0
UID:9157-8-0712e666d78c35a5e0181a336d457050@bn.org.uk
ORGANIZER;CN="Bare_Rick":notifications@bn.org.uk
DESCRIPTION:Sunfolk Pride is back and places are going fast so book now 
	through the Sunfolk Booking PageEverybody is welcome and you don’t have
	 to be a member of the 🏳️‍⚧️ LGBTQ 🏳️‍🌈 Community to 
	attend.*** 08 June Update on Entertainment **Friday Night - Due to persona
	l reasons Drag Act has sadly had to pull out  may do an impromptu Karaoke 
	if people want?Saturday - Silent Disco and campfirEActivities will include
	 BBQ\, Sports\, Sauna\, Hot tub\, yoga\, silent disco\, campfire\, welcome
	/site familiarisation rainbow walk and much more so don’t miss out and b
	ook your place now. \n
DTSTART:20250620T180000Z
DTEND:20250622T140000Z
END:VEVENT
END:VCALENDAR
