BEGIN:VCALENDAR
VERSION:2.0
PRODID:-//InvisionCommunity Events 5.0.18//EN
METHOD:PUBLISH
CALSCALE:GREGORIAN
REFRESH-INTERVAL:PT15M
X-PUBLISHED-TTL:PT15M
X-WR-CALNAME:Eastern
NAME:Eastern
BEGIN:VTIMEZONE
TZID:Europe/London
TZURL:https://tzurl.org/zoneinfo/Europe/London
X-LIC-LOCATION:Europe/London
BEGIN:DAYLIGHT
TZOFFSETFROM:+0000
TZOFFSETTO:+0100
TZNAME:BST
DTSTART:20250330T020000Z
RRULE:FREQ=YEARLY;BYMONTH=3;BYDAY=-1SU
END:DAYLIGHT
BEGIN:STANDARD
TZOFFSETFROM:+0100
TZOFFSETTO:+0000
TZNAME:GMT
DTSTART:20251026T020000Z
RRULE:FREQ=YEARLY;BYMONTH=10;BYDAY=-1SU
END:STANDARD
END:VTIMEZONE
BEGIN:VEVENT
SUMMARY:MNSC - Special Swim Event - Couples & Females Only
DTSTAMP:20250106T202533Z
SEQUENCE:0
UID:9156-8-0712e666d78c35a5e0181a336d457050@bn.org.uk
ORGANIZER;CN="Ross28":notifications@bn.org.uk
DESCRIPTION:\n	A special swim\, plus sauna and steam room for couples an
	d females only\, at Bury St Edmunds Leisure Centre run by Mid-Anglia Natur
	ist Swimming Club (MNSC). This event is not open to unaccompanied males.\n
	\n\n\n	Please contact the club if you would like to attend. BN members\,
	 guests and visitors are very welcome. Full details at the club website\n
	\n
DTSTART:20250503T153000Z
DTEND:20250503T170000Z
END:VEVENT
END:VCALENDAR
