BEGIN:VCALENDAR
VERSION:2.0
PRODID:-//InvisionCommunity Events 5.0.18//EN
METHOD:PUBLISH
CALSCALE:GREGORIAN
REFRESH-INTERVAL:PT15M
X-PUBLISHED-TTL:PT15M
X-WR-CALNAME:London and South East (LASER)
NAME:London and South East (LASER)
BEGIN:VTIMEZONE
TZID:Europe/London
TZURL:https://tzurl.org/zoneinfo/Europe/London
X-LIC-LOCATION:Europe/London
BEGIN:DAYLIGHT
TZOFFSETFROM:+0000
TZOFFSETTO:+0100
TZNAME:BST
DTSTART:20250330T020000Z
RRULE:FREQ=YEARLY;BYMONTH=3;BYDAY=-1SU
END:DAYLIGHT
BEGIN:STANDARD
TZOFFSETFROM:+0100
TZOFFSETTO:+0000
TZNAME:GMT
DTSTART:20251026T020000Z
RRULE:FREQ=YEARLY;BYMONTH=10;BYDAY=-1SU
END:STANDARD
END:VTIMEZONE
BEGIN:VEVENT
SUMMARY:Southampton Swim at Oaklands Pool
DTSTAMP:20250106T165953Z
SEQUENCE:0
UID:9155-7-0712e666d78c35a5e0181a336d457050@bn.org.uk
ORGANIZER;CN="tracey.major":notifications@bn.org.uk
DESCRIPTION:\n	 \n\n\n\n	Southampton Swim at the Oaklands Community Po
	ol in Southampton.   Saturday 11th January 2025 - 18.30 to 20.00\n\n\n\n
		Swims are typically once a month from September to May\, but please see t
	he entries in the BN events calendar for the dates and further details.\
	n\n\n\n	The cost is £8 on the door or click here to buy in advance online
	\n\n\n\n	Under 18s\, who must be accompanied by a parent or guardian\n\n\n
	\n	The event is open to all\, but please remember to bring photo ID\, suc
	h as a driving licence\, or a BN membership card.\n\n\n\n	The pools web
	site is  http://www.oaklandspool.org.uk/\n\n
DTSTART:20250111T183000Z
DTEND:20250111T200000Z
END:VEVENT
END:VCALENDAR
