BEGIN:VCALENDAR
VERSION:2.0
PRODID:-//InvisionCommunity Events 5.0.18//EN
METHOD:PUBLISH
CALSCALE:GREGORIAN
REFRESH-INTERVAL:PT15M
X-PUBLISHED-TTL:PT15M
X-WR-CALNAME:International
NAME:International
BEGIN:VTIMEZONE
TZID:Europe/London
TZURL:https://tzurl.org/zoneinfo/Europe/London
X-LIC-LOCATION:Europe/London
BEGIN:DAYLIGHT
TZOFFSETFROM:+0000
TZOFFSETTO:+0100
TZNAME:BST
DTSTART:20250330T020000Z
RRULE:FREQ=YEARLY;BYMONTH=3;BYDAY=-1SU
END:DAYLIGHT
BEGIN:STANDARD
TZOFFSETFROM:+0100
TZOFFSETTO:+0000
TZNAME:GMT
DTSTART:20251026T020000Z
RRULE:FREQ=YEARLY;BYMONTH=10;BYDAY=-1SU
END:STANDARD
END:VTIMEZONE
BEGIN:VEVENT
SUMMARY:LGBTQ 🏳️‍🌈 SUPPORTED HOLIDAY TO FUERTEVENTURA
DTSTAMP:20250106T104249Z
SEQUENCE:0
UID:9154-9-0712e666d78c35a5e0181a336d457050@bn.org.uk
ORGANIZER;CN="Bare_Rick":notifications@bn.org.uk
DESCRIPTION:\n	LGBTQ holiday being run and hosted by @BHHnaturistresort
	 but supported by BN and LGBTQ 🏳️‍🌈 🏳️‍⚧️ Officer.
	 I’ll be there (have already booked my flights) so why not book a place 
	you’ll have an amazing time. \n\n\n\n	Lots of activities including a na
	turist boat trip\, sun\, sea and sand what more could you ask for 😃. \
	n\n	 \n\n\n\n	 \n\n\n\n	 \n\n\n\n	\n\n
DTSTART;VALUE=DATE:20250509
DTEND;VALUE=DATE:20250517
END:VEVENT
END:VCALENDAR
