BEGIN:VCALENDAR
VERSION:2.0
PRODID:-//InvisionCommunity Events 5.0.18//EN
METHOD:PUBLISH
CALSCALE:GREGORIAN
REFRESH-INTERVAL:PT15M
X-PUBLISHED-TTL:PT15M
X-WR-CALNAME:London and South East (LASER)
NAME:London and South East (LASER)
BEGIN:VTIMEZONE
TZID:Europe/London
TZURL:https://tzurl.org/zoneinfo/Europe/London
X-LIC-LOCATION:Europe/London
BEGIN:DAYLIGHT
TZOFFSETFROM:+0000
TZOFFSETTO:+0100
TZNAME:BST
DTSTART:20250330T020000Z
RRULE:FREQ=YEARLY;BYMONTH=3;BYDAY=-1SU
END:DAYLIGHT
BEGIN:STANDARD
TZOFFSETFROM:+0100
TZOFFSETTO:+0000
TZNAME:GMT
DTSTART:20251026T020000Z
RRULE:FREQ=YEARLY;BYMONTH=10;BYDAY=-1SU
END:STANDARD
END:VTIMEZONE
BEGIN:VEVENT
SUMMARY:LASER naked dinner and skittles at the Mill Arms\, Dunbridge
DTSTAMP:20241229T103659Z
SEQUENCE:0
UID:9118-7-0712e666d78c35a5e0181a336d457050@bn.org.uk
ORGANIZER;CN="Geoffrey Ryder":notifications@bn.org.uk
DESCRIPTION:Join BN’s London and Southeast Regional team and the Natu
	rist Ramblers at the Mill Arms in Dunbridge\, a charming country pub in Ru
	ral Hampshire for an evening dinner and skittles. We will have exclusive u
	se of the function room at the pub. This is a fully self-contained area wi
	th its own bar which will be open throughout the evening and toilets which
	 means that it will be possible to be naked throughout the event. You will
	 have a choice of the pub menu with two and three course options available
	-although you will need to order in advance when you book your ticket.Duri
	ng the day we have a joint walk with the Naturist Ramblers Club starting f
	rom the Mill Arms so come and join us on the walk and work up an appetite\
	, this will be a great opportunity to catch up with old friends and meet n
	ew ones in a naturist setting.There is a large car park at the pub\, and i
	t's only a two-minute walk from Mottisfont and Dunbridge Station\, if you'
	d prefer to leave the car at home.The Mill Arms also has six rooms above 
	the function room which can be booked direct phone 01794 340355 alternati
	vely\, please email us at themillarms@gmail.comPlease tell them you are a
	ttending the BN event as the rooms have been reserved for BN and cannot be
	 booked online. if you stay in the area on the Wednesday evening 18th J
	une we have a Naturist evening at nearby Houghton Lodge Gardens with a Tre
	asure Hunt.2 course dinner BN and Nat Ram members £34 non-member £40.503
	 course dinner BN and Nat Ram members £40 non-member £46.50  You will b
	e able to make your meal choice when booking. Tickets are available to bo
	ok by clicking here.  Please note bookings for this event will close at 10
	am on Monday 16 June.Should you have any questions about this event\, plea
	se contact Geoffrey email geoffrey.ryder@bn.org.uk
DTSTART:20250619T170000Z
DTEND:20250619T213000Z
END:VEVENT
END:VCALENDAR
