BEGIN:VCALENDAR
VERSION:2.0
PRODID:-//InvisionCommunity Events 5.0.18//EN
METHOD:PUBLISH
CALSCALE:GREGORIAN
REFRESH-INTERVAL:PT15M
X-PUBLISHED-TTL:PT15M
X-WR-CALNAME:London and South East (LASER)
NAME:London and South East (LASER)
BEGIN:VTIMEZONE
TZID:Europe/London
TZURL:https://tzurl.org/zoneinfo/Europe/London
X-LIC-LOCATION:Europe/London
BEGIN:DAYLIGHT
TZOFFSETFROM:+0000
TZOFFSETTO:+0100
TZNAME:BST
DTSTART:20250330T020000Z
RRULE:FREQ=YEARLY;BYMONTH=3;BYDAY=-1SU
END:DAYLIGHT
BEGIN:STANDARD
TZOFFSETFROM:+0100
TZOFFSETTO:+0000
TZNAME:GMT
DTSTART:20251026T020000Z
RRULE:FREQ=YEARLY;BYMONTH=10;BYDAY=-1SU
END:STANDARD
END:VTIMEZONE
BEGIN:VEVENT
SUMMARY:NatRam Leith Hill
DTSTAMP:20241217T004436Z
SEQUENCE:0
UID:9108-7-0712e666d78c35a5e0181a336d457050@bn.org.uk
ORGANIZER;CN="7kk19bnu4spcmn.andrew":notifications@bn.org.uk
DESCRIPTION:\n	Join us for an 11 mile* walk on Leith Hill near Dorking i
	n Surrey.\n\n\n\n	* Note: a shorter version of this walk (6 miles or 9 mil
	es) will be available on the day.\n\n\n\n	The NatRam walking season ends i
	n the Surrey Hills Area Of Outstanding Natural Beauty west of Dorking.\n\n
	\n\n	If you don't want to hang up your walking boots just yet\, try one of
	 the Stark Trekkers walks - they continue every month through the winter!\
	n\n\n\n	 \n\n\n\n	The event start time for NatRam walks shows when walker
	s may begin gathering at the start point before the group sets off (usuall
	y about 20 to 30 minutes later).\n\n\n\n	The programme for Stark Trekkers 
	and NatRam walks is available on the Naturist Ramblers web site at the Nat
	Ram walks programme page.  \n\n\n\n	BN members new to Stark Trekkers and 
	NatRam walks should contact the Club Secretary for more information and de
	tailed directions to the event meeting point.  \n\n\n\n	Please bring some
	 ID (e.g. a BN membership card) and be prepared to provide some contact de
	tails on a completed registration form.\n\n	 \n\n\n\n	More information ab
	out our walks on the web site explains how our walks are conducted\, and g
	ives some guidance on what to expect on the day.\n\n	\n\n	 \n\n
DTSTART:20251002T110000Z
DTEND:20251002T173000Z
END:VEVENT
END:VCALENDAR
