BEGIN:VCALENDAR
VERSION:2.0
PRODID:-//InvisionCommunity Events 5.0.18//EN
METHOD:PUBLISH
CALSCALE:GREGORIAN
REFRESH-INTERVAL:PT15M
X-PUBLISHED-TTL:PT15M
X-WR-CALNAME:London and South East (LASER)
NAME:London and South East (LASER)
BEGIN:VTIMEZONE
TZID:Europe/London
TZURL:https://tzurl.org/zoneinfo/Europe/London
X-LIC-LOCATION:Europe/London
BEGIN:DAYLIGHT
TZOFFSETFROM:+0000
TZOFFSETTO:+0100
TZNAME:BST
DTSTART:20250330T020000Z
RRULE:FREQ=YEARLY;BYMONTH=3;BYDAY=-1SU
END:DAYLIGHT
BEGIN:STANDARD
TZOFFSETFROM:+0100
TZOFFSETTO:+0000
TZNAME:GMT
DTSTART:20251026T020000Z
RRULE:FREQ=YEARLY;BYMONTH=10;BYDAY=-1SU
END:STANDARD
END:VTIMEZONE
BEGIN:VEVENT
SUMMARY:NatRam walk Egg & Denger
DTSTAMP:20241217T003825Z
SEQUENCE:0
UID:9107-7-0712e666d78c35a5e0181a336d457050@bn.org.uk
ORGANIZER;CN="7kk19bnu4spcmn.andrew":notifications@bn.org.uk
DESCRIPTION:\n	Join us for an 11 mile* walk through ancient forests on t
	he North Downs between Chilham and Canterbury in East Kent.\n\n\n\n	* Note
	: a shorter version of this walk will be available on the day (to be confi
	rmed). \n\n\n\n	Chance for a skinny dip in the River Ouse and some great 
	views across Kent.\n\n\n\n	 \n\n\n\n	The event start time for NatRam walk
	s shows when walkers may begin gathering at the start point before the gro
	up sets off (usually about 20 to 30 minutes later).\n\n\n\n	The programme 
	for Stark Trekkers and NatRam walks is available on the Naturist Ramblers 
	web site at the NatRam walks programme page.  \n\n\n\n	BN members new to 
	Stark Trekkers and NatRam walks should contact the Club Secretary for more
	 information and detailed directions to the event meeting point.  Please 
	bring some ID (e.g. a BN membership card) and be prepared to provide some 
	contact details on a completed registration form.\n\n	 \n\n\n\n	More info
	rmation about our walks on the web site explains how our walks are conduct
	ed\, and gives some guidance on what to expect on the day.\n\n	\n\n	 \n\n
DTSTART:20250923T103000Z
DTEND:20250923T173000Z
END:VEVENT
END:VCALENDAR
