BEGIN:VCALENDAR
VERSION:2.0
PRODID:-//InvisionCommunity Events 5.0.18//EN
METHOD:PUBLISH
CALSCALE:GREGORIAN
REFRESH-INTERVAL:PT15M
X-PUBLISHED-TTL:PT15M
X-WR-CALNAME:London and South East (LASER)
NAME:London and South East (LASER)
BEGIN:VTIMEZONE
TZID:Europe/London
TZURL:https://tzurl.org/zoneinfo/Europe/London
X-LIC-LOCATION:Europe/London
BEGIN:DAYLIGHT
TZOFFSETFROM:+0000
TZOFFSETTO:+0100
TZNAME:BST
DTSTART:20250330T020000Z
RRULE:FREQ=YEARLY;BYMONTH=3;BYDAY=-1SU
END:DAYLIGHT
BEGIN:STANDARD
TZOFFSETFROM:+0100
TZOFFSETTO:+0000
TZNAME:GMT
DTSTART:20251026T020000Z
RRULE:FREQ=YEARLY;BYMONTH=10;BYDAY=-1SU
END:STANDARD
END:VTIMEZONE
BEGIN:VEVENT
SUMMARY:NatRam Kendyke
DTSTAMP:20241217T003333Z
SEQUENCE:0
UID:9106-7-0712e666d78c35a5e0181a336d457050@bn.org.uk
ORGANIZER;CN="7kk19bnu4spcmn.andrew":notifications@bn.org.uk
DESCRIPTION:\n	Join us for an 11 mile walk through neolithic hill-forts\
	, burial mounds and ancient trackways around the Vale of Pewsey.\n\n\n\n	
	 \n\n\n\n	The event start time for NatRam walks shows when walkers may be
	gin gathering at the start point before the group sets off (usually about 
	20 to 30 minutes later).\n\n\n\n	The programme for Stark Trekkers and NatR
	am walks is available on the Naturist Ramblers web site at the NatRam walk
	s programme page.  \n\n\n\n	BN members new to Stark Trekkers and NatRam w
	alks should contact the Club Secretary for more information and detailed d
	irections to the event meeting point.  Please bring some ID (e.g. a BN me
	mbership card) and be prepared to provide some contact details on a comple
	ted registration form.\n\n	 \n\n\n\n	More information about our walks on 
	the web site explains how our walks are conducted\, and gives some guidanc
	e on what to expect on the day.\n\n\n\n	 \n\n
DTSTART:20250917T104500Z
DTEND:20250917T173000Z
END:VEVENT
END:VCALENDAR
