BEGIN:VCALENDAR
VERSION:2.0
PRODID:-//InvisionCommunity Events 5.0.18//EN
METHOD:PUBLISH
CALSCALE:GREGORIAN
REFRESH-INTERVAL:PT15M
X-PUBLISHED-TTL:PT15M
X-WR-CALNAME:South West
NAME:South West
BEGIN:VTIMEZONE
TZID:Europe/London
TZURL:https://tzurl.org/zoneinfo/Europe/London
X-LIC-LOCATION:Europe/London
BEGIN:DAYLIGHT
TZOFFSETFROM:+0000
TZOFFSETTO:+0100
TZNAME:BST
DTSTART:20250330T020000Z
RRULE:FREQ=YEARLY;BYMONTH=3;BYDAY=-1SU
END:DAYLIGHT
BEGIN:STANDARD
TZOFFSETFROM:+0100
TZOFFSETTO:+0000
TZNAME:GMT
DTSTART:20251026T020000Z
RRULE:FREQ=YEARLY;BYMONTH=10;BYDAY=-1SU
END:STANDARD
END:VTIMEZONE
BEGIN:VEVENT
SUMMARY:NatRam Sugar Hill
DTSTAMP:20241216T233844Z
SEQUENCE:0
UID:9099-4-0712e666d78c35a5e0181a336d457050@bn.org.uk
ORGANIZER;CN="7kk19bnu4spcmn.andrew":notifications@bn.org.uk
DESCRIPTION:\n	Join us for an 11 mile naturist walk over Sugar Hill in t
	he Wiltshire Downs near Swindon.\n\n\n\n	A chance to enjoy the wide open s
	paces of the North Wessex Downs National Landscape - nude!\n\n\n\n	 \n\n\
	n\n	The event start time for NatRam walks shows when walkers may begin gat
	hering at the start point before the group sets off (usually about 20 to 3
	0 minutes later).\n\n\n\n	The programme for Stark Trekkers and NatRam walk
	s is available on the Naturist Ramblers web site at the NatRam walks progr
	amme page.  \n\n\n\n	BN members new to Stark Trekkers and NatRam walks sh
	ould contact the Club Secretary for more information and detailed directio
	ns to the event meeting point.  Please bring some ID (e.g. a BN membershi
	p card) and be prepared to provide some contact details on a completed reg
	istration form.\n\n	 \n\n\n\n	More information about our walks on the web
	 site explains how our walks are conducted\, and gives some guidance on wh
	at to expect on the day.\n\n\n\n	 \n\n
DTSTART:20250814T104500Z
DTEND:20250814T173000Z
END:VEVENT
END:VCALENDAR
