BEGIN:VCALENDAR
VERSION:2.0
PRODID:-//InvisionCommunity Events 5.0.18//EN
METHOD:PUBLISH
CALSCALE:GREGORIAN
REFRESH-INTERVAL:PT15M
X-PUBLISHED-TTL:PT15M
X-WR-CALNAME:London and South East (LASER)
NAME:London and South East (LASER)
BEGIN:VTIMEZONE
TZID:Europe/London
TZURL:https://tzurl.org/zoneinfo/Europe/London
X-LIC-LOCATION:Europe/London
BEGIN:DAYLIGHT
TZOFFSETFROM:+0000
TZOFFSETTO:+0100
TZNAME:BST
DTSTART:20250330T020000Z
RRULE:FREQ=YEARLY;BYMONTH=3;BYDAY=-1SU
END:DAYLIGHT
BEGIN:STANDARD
TZOFFSETFROM:+0100
TZOFFSETTO:+0000
TZNAME:GMT
DTSTART:20251026T020000Z
RRULE:FREQ=YEARLY;BYMONTH=10;BYDAY=-1SU
END:STANDARD
END:VTIMEZONE
BEGIN:VEVENT
SUMMARY:NatRam Great Bottom
DTSTAMP:20241216T224728Z
SEQUENCE:0
UID:9095-7-0712e666d78c35a5e0181a336d457050@bn.org.uk
ORGANIZER;CN="7kk19bnu4spcmn.andrew":notifications@bn.org.uk
DESCRIPTION:\n	Join us for a 12 mile walk on the South Downs near Amberl
	ey in West Sussex.\n\n\n\n	In case you are wondering\, Great Bottom is the
	 name of one of the dry chalk downland valleys on the route.\n\n\n\n	 \n\
	n\n\n	The event start time for NatRam walks shows when walkers may begin g
	athering at the start point before the group sets off (usually about 20 to
	 30 minutes later).\n\n\n\n	The programme for Stark Trekkers and NatRam wa
	lks is available on the Naturist Ramblers web site at the NatRam walks pro
	gramme page.  \n\n\n\n	BN members new to Stark Trekkers and NatRam walks 
	should contact the Club Secretary for more information and detailed direct
	ions to the event meeting point.  Please bring some ID (e.g. a BN members
	hip card) and be prepared to provide some contact details on a completed r
	egistration form.\n\n	 \n\n\n\n	More information about our walks on the w
	eb site explains how our walks are conducted\, and gives some guidance on 
	what to expect on the day.\n\n\n\n	\n\n	 \n\n
DTSTART:20250730T101500Z
DTEND:20250730T173000Z
END:VEVENT
END:VCALENDAR
