BEGIN:VCALENDAR
VERSION:2.0
PRODID:-//InvisionCommunity Events 5.0.18//EN
METHOD:PUBLISH
CALSCALE:GREGORIAN
REFRESH-INTERVAL:PT15M
X-PUBLISHED-TTL:PT15M
X-WR-CALNAME:London and South East (LASER)
NAME:London and South East (LASER)
BEGIN:VTIMEZONE
TZID:Europe/London
TZURL:https://tzurl.org/zoneinfo/Europe/London
X-LIC-LOCATION:Europe/London
BEGIN:DAYLIGHT
TZOFFSETFROM:+0000
TZOFFSETTO:+0100
TZNAME:BST
DTSTART:20250330T020000Z
RRULE:FREQ=YEARLY;BYMONTH=3;BYDAY=-1SU
END:DAYLIGHT
BEGIN:STANDARD
TZOFFSETFROM:+0100
TZOFFSETTO:+0000
TZNAME:GMT
DTSTART:20251026T020000Z
RRULE:FREQ=YEARLY;BYMONTH=10;BYDAY=-1SU
END:STANDARD
END:VTIMEZONE
BEGIN:VEVENT
SUMMARY:NatRam Box Hill Maze
DTSTAMP:20241216T215126Z
SEQUENCE:0
UID:9091-7-0712e666d78c35a5e0181a336d457050@bn.org.uk
ORGANIZER;CN="7kk19bnu4spcmn.andrew":notifications@bn.org.uk
DESCRIPTION:\n	Join us for an 11 mile* stroll around Box Hill in the Nor
	th Downs near Dorking in Surrey.\n\n\n\n	This walk includes some strenuous
	 climbs. \n\n\n\n	* Note: a shorter route option (3 miles and 5 miles) wi
	ll be available on the day.\n\n\n\n	 \n\n\n\n	The event start time for Na
	tRam walks shows when walkers may begin gathering at the start point befor
	e the group sets off (usually about 20 to 30 minutes later).\n\n\n\n	The p
	rogramme for Stark Trekkers and NatRam walks is available on the Naturist 
	Ramblers web site at the NatRam walks programme page.  \n\n\n\n	BN member
	s new to Stark Trekkers and NatRam walks should contact the Club Secretary
	 for more information and detailed directions to the event meeting point. 
	 Please bring some ID (e.g. a BN membership card) and be prepared to prov
	ide some contact details on a completed registration form.\n\n	 \n\n\n\n	
	More information about our walks on the web site explains how our walks ar
	e conducted\, and gives some guidance on what to expect on the day.\n\n\n\
	n	\n\n	 \n\n\n\n	 \n\n
DTSTART:20250708T103000Z
DTEND:20250708T173000Z
END:VEVENT
END:VCALENDAR
