BEGIN:VCALENDAR
VERSION:2.0
PRODID:-//InvisionCommunity Events 5.0.18//EN
METHOD:PUBLISH
CALSCALE:GREGORIAN
REFRESH-INTERVAL:PT15M
X-PUBLISHED-TTL:PT15M
X-WR-CALNAME:London and South East (LASER)
NAME:London and South East (LASER)
BEGIN:VTIMEZONE
TZID:Europe/London
TZURL:https://tzurl.org/zoneinfo/Europe/London
X-LIC-LOCATION:Europe/London
BEGIN:DAYLIGHT
TZOFFSETFROM:+0000
TZOFFSETTO:+0100
TZNAME:BST
DTSTART:20250330T020000Z
RRULE:FREQ=YEARLY;BYMONTH=3;BYDAY=-1SU
END:DAYLIGHT
BEGIN:STANDARD
TZOFFSETFROM:+0100
TZOFFSETTO:+0000
TZNAME:GMT
DTSTART:20251026T020000Z
RRULE:FREQ=YEARLY;BYMONTH=10;BYDAY=-1SU
END:STANDARD
END:VTIMEZONE
BEGIN:VEVENT
SUMMARY:NatRam Bury Down
DTSTAMP:20241216T213823Z
SEQUENCE:0
UID:9090-7-0712e666d78c35a5e0181a336d457050@bn.org.uk
ORGANIZER;CN="7kk19bnu4spcmn.andrew":notifications@bn.org.uk
DESCRIPTION:\n	Join us for an 12 mile walk on the Berkshire Downs near D
	idcot.\n\n\n\n	Big skies\, panoramic views!\n\n\n\n	The event start time f
	or NatRam walks shows when walkers may begin gathering at the start point 
	before the group sets off (usually about 20 to 30 minutes later).\n\n\n\n	
	The programme for Stark Trekkers and NatRam walks is available on the Natu
	rist Ramblers web site at the NatRam walks programme page.  \n\n\n\n	BN m
	embers new to Stark Trekkers and NatRam walks should contact the Club Secr
	etary for more information and detailed directions to the event meeting po
	int.  Please bring some ID (e.g. a BN membership card) and be prepared to
	 provide some contact details on a completed registration form.\n\n\n\n	Mo
	re information about our walks on the web site explains how our walks are 
	conducted\, and gives some guidance on what to expect on the day.\n\n\n\n	
	\n\n	 \n\n
DTSTART:20250702T103000Z
DTEND:20250702T173000Z
END:VEVENT
END:VCALENDAR
