BEGIN:VCALENDAR
VERSION:2.0
PRODID:-//InvisionCommunity Events 5.0.18//EN
METHOD:PUBLISH
CALSCALE:GREGORIAN
REFRESH-INTERVAL:PT15M
X-PUBLISHED-TTL:PT15M
X-WR-CALNAME:London and South East (LASER)
NAME:London and South East (LASER)
BEGIN:VTIMEZONE
TZID:Europe/London
TZURL:https://tzurl.org/zoneinfo/Europe/London
X-LIC-LOCATION:Europe/London
BEGIN:DAYLIGHT
TZOFFSETFROM:+0000
TZOFFSETTO:+0100
TZNAME:BST
DTSTART:20250330T020000Z
RRULE:FREQ=YEARLY;BYMONTH=3;BYDAY=-1SU
END:DAYLIGHT
BEGIN:STANDARD
TZOFFSETFROM:+0100
TZOFFSETTO:+0000
TZNAME:GMT
DTSTART:20251026T020000Z
RRULE:FREQ=YEARLY;BYMONTH=10;BYDAY=-1SU
END:STANDARD
END:VTIMEZONE
BEGIN:VEVENT
SUMMARY:StarkTrek Hoo Cycle Ride
DTSTAMP:20241216T211917Z
SEQUENCE:0
UID:9088-7-0712e666d78c35a5e0181a336d457050@bn.org.uk
ORGANIZER;CN="7kk19bnu4spcmn.andrew":notifications@bn.org.uk
DESCRIPTION:\n	Join us for a leisurely naked bike ride (15 miles) in the
	 North Kent marshes in Kent.\n\n	Note: This is a cycle ride only\, the ann
	ual Stark Trekkers ride.\n\n\n\n	 \n\n\n\n	The event start time for this 
	Stark Trekkers event shows when the group is intending to set off.  You m
	ay wish to arrive 10 minutes earlier to get ready and to check-in with the
	 walk leader.  \n\n\n\n	The programme for Stark Trekkers and NatRam walks
	 is available on the Naturist Ramblers web site at the NatRam walks progra
	mme page.  \n\n\n\n	BN members new to Stark Trekkers and NatRam events sh
	ould contact the Club Secretary for more information and detailed directio
	ns to the event meeting point.  Please bring some ID (e.g. a BN membershi
	p card) and be prepared to provide some contact details on a completed reg
	istration form.\n\n	 \n\n\n\n	More information about our walks on the web
	 site explains how our walks are conducted\, and gives some guidance on wh
	at to expect on the day.\n\n	\n\n	 \n\n
DTSTART:20250624T103000Z
DTEND:20250624T150000Z
END:VEVENT
END:VCALENDAR
