BEGIN:VCALENDAR
VERSION:2.0
PRODID:-//InvisionCommunity Events 5.0.18//EN
METHOD:PUBLISH
CALSCALE:GREGORIAN
REFRESH-INTERVAL:PT15M
X-PUBLISHED-TTL:PT15M
X-WR-CALNAME:London and South East (LASER)
NAME:London and South East (LASER)
BEGIN:VTIMEZONE
TZID:Europe/London
TZURL:https://tzurl.org/zoneinfo/Europe/London
X-LIC-LOCATION:Europe/London
BEGIN:DAYLIGHT
TZOFFSETFROM:+0000
TZOFFSETTO:+0100
TZNAME:BST
DTSTART:20250330T020000Z
RRULE:FREQ=YEARLY;BYMONTH=3;BYDAY=-1SU
END:DAYLIGHT
BEGIN:STANDARD
TZOFFSETFROM:+0100
TZOFFSETTO:+0000
TZNAME:GMT
DTSTART:20251026T020000Z
RRULE:FREQ=YEARLY;BYMONTH=10;BYDAY=-1SU
END:STANDARD
END:VTIMEZONE
BEGIN:VEVENT
SUMMARY:BN / NatRam Dunbridge
DTSTAMP:20241216T205804Z
SEQUENCE:0
UID:9086-7-0712e666d78c35a5e0181a336d457050@bn.org.uk
ORGANIZER;CN="7kk19bnu4spcmn.andrew":notifications@bn.org.uk
DESCRIPTION:\n	Join us at Dunbridge for an 11 mile* walk through the gen
	tle Hampshire countryside.\n\n	This walk is being run in conjunction with 
	BN\, so members of both organisations are most welcome to participate.\n\n
	\n\n	Well-behaved dogs are welcome on the walk. However\, we will be passi
	ng through fields where cattle will be grazing\, at which point dogs will 
	need to be on leads.\n\n\n\n	* Note: a shorter option (7 miles) is availab
	le.\n\n\n\n	The event start time for this walk shows when walkers may begi
	n gathering at the start point before the group sets off (usually about 20
	 to 30 minutes later).\n\n\n\n	The programme for Stark Trekkers and NatRam
	 walks is available on the Naturist Ramblers web site at the NatRam walks 
	programme page.  \n\n\n\n	BN members new to Stark Trekkers and NatRam wal
	ks should contact the Club Secretary for more information and detailed dir
	ections to the event meeting point.  If considering Stark Trekkers or Nat
	Ram membership\, please bring some ID (e.g. a BN membership card) and be p
	repared to provide some contact details on a completed registration form.\
	n\n	 \n\n\n\n	More information about our walks on the web site explains h
	ow our walks are conducted\, and gives some guidance on what to expect on 
	the day.\n\n
DTSTART:20250619T103000Z
DTEND:20250619T173000Z
END:VEVENT
END:VCALENDAR
