BEGIN:VCALENDAR
VERSION:2.0
PRODID:-//InvisionCommunity Events 5.0.18//EN
METHOD:PUBLISH
CALSCALE:GREGORIAN
REFRESH-INTERVAL:PT15M
X-PUBLISHED-TTL:PT15M
X-WR-CALNAME:South West
NAME:South West
BEGIN:VTIMEZONE
TZID:Europe/London
TZURL:https://tzurl.org/zoneinfo/Europe/London
X-LIC-LOCATION:Europe/London
BEGIN:DAYLIGHT
TZOFFSETFROM:+0000
TZOFFSETTO:+0100
TZNAME:BST
DTSTART:20250330T020000Z
RRULE:FREQ=YEARLY;BYMONTH=3;BYDAY=-1SU
END:DAYLIGHT
BEGIN:STANDARD
TZOFFSETFROM:+0100
TZOFFSETTO:+0000
TZNAME:GMT
DTSTART:20251026T020000Z
RRULE:FREQ=YEARLY;BYMONTH=10;BYDAY=-1SU
END:STANDARD
END:VTIMEZONE
BEGIN:VEVENT
SUMMARY:BN /  NatRam Ackling Dyke
DTSTAMP:20241216T204548Z
SEQUENCE:0
UID:9085-4-0712e666d78c35a5e0181a336d457050@bn.org.uk
ORGANIZER;CN="7kk19bnu4spcmn.andrew":notifications@bn.org.uk
DESCRIPTION:\n	Join us for an 11 mile* naturist walk on the high chalk d
	owns near Salisbury.\n\n	This walk is being run in conjunction with BN\, s
	o members of both organisations are most welcome to participate.\n\n\n\n	*
	 Note: a shorter option of this walk (8 1/2 miles) will be available on th
	e day.\n\n\n\n	 \n\n\n\n	The event start time for this walk shows when wa
	lkers may begin gathering at the start point before the group sets off (us
	ually about 20 to 30 minutes later).\n\n\n\n	The programme for Stark Trekk
	ers and NatRam walks is available on the Naturist Ramblers web site at the
	 NatRam walks programme page.  \n\n\n\n	BN members new to Stark Trekkers 
	and NatRam walks should contact the Club Secretary for more information an
	d detailed directions to the event meeting point.  If considering Stark T
	rekkers or NatRam membership\, please bring some ID (e.g. a BN membership 
	card) and be prepared to provide some contact details on a completed regis
	tration form.\n\n	                  \n\n\n\n	More information ab
	out our walks on the web site explains how our walks are conducted\, and g
	ives some guidance on what to expect on the day.\n\n
DTSTART:20250617T103000Z
DTEND:20250617T173000Z
END:VEVENT
END:VCALENDAR
