BEGIN:VCALENDAR
VERSION:2.0
PRODID:-//InvisionCommunity Events 5.0.18//EN
METHOD:PUBLISH
CALSCALE:GREGORIAN
REFRESH-INTERVAL:PT15M
X-PUBLISHED-TTL:PT15M
X-WR-CALNAME:London and South East (LASER)
NAME:London and South East (LASER)
BEGIN:VTIMEZONE
TZID:Europe/London
TZURL:https://tzurl.org/zoneinfo/Europe/London
X-LIC-LOCATION:Europe/London
BEGIN:DAYLIGHT
TZOFFSETFROM:+0000
TZOFFSETTO:+0100
TZNAME:BST
DTSTART:20250330T020000Z
RRULE:FREQ=YEARLY;BYMONTH=3;BYDAY=-1SU
END:DAYLIGHT
BEGIN:STANDARD
TZOFFSETFROM:+0100
TZOFFSETTO:+0000
TZNAME:GMT
DTSTART:20251026T020000Z
RRULE:FREQ=YEARLY;BYMONTH=10;BYDAY=-1SU
END:STANDARD
END:VTIMEZONE
BEGIN:VEVENT
SUMMARY:NatRam Hoo Peninsula
DTSTAMP:20241216T203548Z
SEQUENCE:0
UID:9084-7-0712e666d78c35a5e0181a336d457050@bn.org.uk
ORGANIZER;CN="7kk19bnu4spcmn.andrew":notifications@bn.org.uk
DESCRIPTION:\n	Join us for an 11 mile* stroll across the remote Hoo Pens
	insula near Gravesend in North Kent.\n\n\n\n	* Note: a shorter version of 
	this walk(8 miles) is available on the day\n\n\n\n	Great for those who lik
	e broad open spaces and a chance to swim in a sheltered bay in the Thames 
	estuary.\n\n\n\n	 \n\n\n\n	The event start time for NatRam walks shows wh
	en walkers may begin gathering at the start point before the group sets of
	f (usually about 20 to 30 minutes later).\n\n\n\n	The programme for Stark 
	Trekkers and NatRam walks is available on the Naturist Ramblers web site a
	t the NatRam walks programme page.  \n\n\n\n	BN members new to Stark Trek
	kers and NatRam walks should contact the Club Secretary for more informati
	on and detailed directions to the event meeting point.  Please bring some
	 ID (e.g. a BN membership card) and be prepared to provide some contact de
	tails on a completed registration form.\n\n	 \n\n\n\n	More information ab
	out our walks on the web site explains how our walks are conducted\, and g
	ives some guidance on what to expect on the day.\n\n
DTSTART:20250614T103000Z
DTEND:20250614T173000Z
END:VEVENT
END:VCALENDAR
