BEGIN:VCALENDAR
VERSION:2.0
PRODID:-//InvisionCommunity Events 5.0.18//EN
METHOD:PUBLISH
CALSCALE:GREGORIAN
REFRESH-INTERVAL:PT15M
X-PUBLISHED-TTL:PT15M
X-WR-CALNAME:London and South East (LASER)
NAME:London and South East (LASER)
BEGIN:VTIMEZONE
TZID:Europe/London
TZURL:https://tzurl.org/zoneinfo/Europe/London
X-LIC-LOCATION:Europe/London
BEGIN:DAYLIGHT
TZOFFSETFROM:+0000
TZOFFSETTO:+0100
TZNAME:BST
DTSTART:20250330T020000Z
RRULE:FREQ=YEARLY;BYMONTH=3;BYDAY=-1SU
END:DAYLIGHT
BEGIN:STANDARD
TZOFFSETFROM:+0100
TZOFFSETTO:+0000
TZNAME:GMT
DTSTART:20251026T020000Z
RRULE:FREQ=YEARLY;BYMONTH=10;BYDAY=-1SU
END:STANDARD
END:VTIMEZONE
BEGIN:VEVENT
SUMMARY:NatRam Five Lords Burgh
DTSTAMP:20241216T202843Z
SEQUENCE:0
UID:9083-7-0712e666d78c35a5e0181a336d457050@bn.org.uk
ORGANIZER;CN="7kk19bnu4spcmn.andrew":notifications@bn.org.uk
DESCRIPTION:\n	Join us for a 10 mile* walk on the South Downs near Berwi
	ck in East Sussex.\n\n	Fabulous views over the south coast and Sussex weal
	d (this is a revised version of the Un-Firled walk from 2024).\n\n\n\n	* N
	ote: a shorter option for this walk (6 miles or 9 miles) will be available
	 on the day.\n\n\n\n	The event start time for NatRam walks shows when walk
	ers may begin gathering at the start point before the group sets off (usua
	lly about 20 to 30 minutes later).\n\n\n\n	The programme for Stark Trekker
	s and NatRam walks is available on the Naturist Ramblers web site at the N
	atRam walks programme page.  \n\n\n\n	BN members new to Stark Trekkers an
	d NatRam walks should contact the Club Secretary for more information and 
	detailed directions to the event meeting point.  Please bring some ID (e.
	g. a BN membership card) and be prepared to provide some contact details o
	n a completed registration form.\n\n	 \n\n\n\n	More information about our
	 walks on the web site explains how our walks are conducted\, and gives so
	me guidance on what to expect on the day.\n\n
DTSTART:20250611T103000Z
DTEND:20250611T173000Z
END:VEVENT
END:VCALENDAR
