BEGIN:VCALENDAR
VERSION:2.0
PRODID:-//InvisionCommunity Events 5.0.18//EN
METHOD:PUBLISH
CALSCALE:GREGORIAN
REFRESH-INTERVAL:PT15M
X-PUBLISHED-TTL:PT15M
X-WR-CALNAME:London and South East (LASER)
NAME:London and South East (LASER)
BEGIN:VTIMEZONE
TZID:Europe/London
TZURL:https://tzurl.org/zoneinfo/Europe/London
X-LIC-LOCATION:Europe/London
BEGIN:DAYLIGHT
TZOFFSETFROM:+0000
TZOFFSETTO:+0100
TZNAME:BST
DTSTART:20250330T020000Z
RRULE:FREQ=YEARLY;BYMONTH=3;BYDAY=-1SU
END:DAYLIGHT
BEGIN:STANDARD
TZOFFSETFROM:+0100
TZOFFSETTO:+0000
TZNAME:GMT
DTSTART:20251026T020000Z
RRULE:FREQ=YEARLY;BYMONTH=10;BYDAY=-1SU
END:STANDARD
END:VTIMEZONE
BEGIN:VEVENT
SUMMARY:NatRam Dean's Bottom
DTSTAMP:20241216T195843Z
SEQUENCE:0
UID:9080-7-0712e666d78c35a5e0181a336d457050@bn.org.uk
ORGANIZER;CN="7kk19bnu4spcmn.andrew":notifications@bn.org.uk
DESCRIPTION:\n	Note: openig hours for The Bell Inn are 12 noon until 8pm
	.  There are several picnic tables at the front of the pub\, by the road.
	  So gathering and registration can begin from 11:30 before the pub opens
	.  I propose we should all be ready to set off at 12:15\, to give walkers
	 the chance for a quick drink if desired. \n\n\n\n	The full walk is very 
	nearly 12 miles\, so a good pace will be needed on the later sections if w
	e are to get back to the pub for food and drinks by 18:00 or 18:30.  I ca
	n point out the return path for the shorter walk as we follow the outward 
	section.\n\n\n\n	 \n\n\n\n	Parking on the road is very limited.\n\n\n\n	P
	arking behind the pub is in a grassy field\, not in the tarmac yard.  It 
	was firm and dry on 8 May.\n\n\n\n	 \n\n\n\n	Join us for a 12 mile* strol
	l on the Berkshire Downs near Goring-on-Thames.\n\n\n\n	* Note: a shorter 
	version of this walk (8 miles)will be available on the day.\n\n\n\n	The ev
	ent start time for NatRam walks shows when walkers may begin gathering at 
	the start point before the group sets off (usually about 20 to 30 minutes 
	later).\n\n\n\n	The programme for Stark Trekkers and NatRam walks is avail
	able on the Naturist Ramblers web site at the NatRam walks programme page.
	  \n\n\n\n	BN members new to Stark Trekkers and NatRam walks should conta
	ct the Club Secretary for more information and detailed directions to the 
	event meeting point.  \n\n\n\n	Please bring some ID (e.g. a BN membership
	 card) and be prepared to provide some contact details on a completed regi
	stration form.\n\n	 \n\n\n\n	More information about our walks on the web 
	site explains how our walks are conducted\, and gives some guidance on wha
	t to expect on the day.\n\n
DTSTART:20250521T103000Z
DTEND:20250521T173000Z
END:VEVENT
END:VCALENDAR
