BEGIN:VCALENDAR
VERSION:2.0
PRODID:-//InvisionCommunity Events 5.0.18//EN
METHOD:PUBLISH
CALSCALE:GREGORIAN
REFRESH-INTERVAL:PT15M
X-PUBLISHED-TTL:PT15M
X-WR-CALNAME:London and South East (LASER)
NAME:London and South East (LASER)
BEGIN:VTIMEZONE
TZID:Europe/London
TZURL:https://tzurl.org/zoneinfo/Europe/London
X-LIC-LOCATION:Europe/London
BEGIN:DAYLIGHT
TZOFFSETFROM:+0000
TZOFFSETTO:+0100
TZNAME:BST
DTSTART:20250330T020000Z
RRULE:FREQ=YEARLY;BYMONTH=3;BYDAY=-1SU
END:DAYLIGHT
BEGIN:STANDARD
TZOFFSETFROM:+0100
TZOFFSETTO:+0000
TZNAME:GMT
DTSTART:20251026T020000Z
RRULE:FREQ=YEARLY;BYMONTH=10;BYDAY=-1SU
END:STANDARD
END:VTIMEZONE
BEGIN:VEVENT
SUMMARY:StarkTrek Robertswood
DTSTAMP:20241216T193915Z
SEQUENCE:0
UID:9077-7-0712e666d78c35a5e0181a336d457050@bn.org.uk
ORGANIZER;CN="7kk19bnu4spcmn.andrew":notifications@bn.org.uk
DESCRIPTION:\n	Join us for a 6 mile stroll through sheltered meadows and
	 woodlands near Robertsbridge in East Sussex.\n\n\n\n	Opportunity to warm 
	up with hot drinks and cakes at a local cafe afterwards.\n\n\n\n	The event
	 start time for Stark Trekkers walks shows when the group is intending to 
	set off.  You may wish to arrive 10 minutes earlier to get ready and to c
	heck-in with the walk leader.  \n\n\n\n	The programme for Stark Trekkers 
	and NatRam walks is available on the Naturist Ramblers web site at the Nat
	Ram walks programme page.  \n\n\n\n	BN members new to Stark Trekkers and 
	NatRam walks should contact the Club Secretary for more information and de
	tailed directions to the event meeting point.  \n\n\n\n	Please bring some
	 ID (e.g. a BN membership card) and be prepared to provide some contact de
	tails on a completed registration form.\n\n	 \n\n\n\n	More information ab
	out our walks on the web site explains how our walks are conducted\, and g
	ives some guidance on what to expect on the day.\n\n\n\n	\n\n	 \n\n\n\n	
	 \n\n
DTSTART:20250428T104500Z
DTEND:20250428T150000Z
END:VEVENT
END:VCALENDAR
