BEGIN:VCALENDAR
VERSION:2.0
PRODID:-//InvisionCommunity Events 5.0.18//EN
METHOD:PUBLISH
CALSCALE:GREGORIAN
REFRESH-INTERVAL:PT15M
X-PUBLISHED-TTL:PT15M
X-WR-CALNAME:London and South East (LASER)
NAME:London and South East (LASER)
BEGIN:VTIMEZONE
TZID:Europe/London
TZURL:https://tzurl.org/zoneinfo/Europe/London
X-LIC-LOCATION:Europe/London
BEGIN:DAYLIGHT
TZOFFSETFROM:+0000
TZOFFSETTO:+0100
TZNAME:BST
DTSTART:20250330T020000Z
RRULE:FREQ=YEARLY;BYMONTH=3;BYDAY=-1SU
END:DAYLIGHT
BEGIN:STANDARD
TZOFFSETFROM:+0100
TZOFFSETTO:+0000
TZNAME:GMT
DTSTART:20251026T020000Z
RRULE:FREQ=YEARLY;BYMONTH=10;BYDAY=-1SU
END:STANDARD
END:VTIMEZONE
BEGIN:VEVENT
SUMMARY:NatRam Wotton Wander
DTSTAMP:20241216T193224Z
SEQUENCE:0
UID:9076-7-0712e666d78c35a5e0181a336d457050@bn.org.uk
ORGANIZER;CN="7kk19bnu4spcmn.andrew":notifications@bn.org.uk
DESCRIPTION:\n	The first full-length NatRam walk of the season: a 12 mil
	e* stroll along the edge of the North Downs near Dorking in Surrey.\n\n\n\
	n	* Note: a shorter option (5 miles or 6 miles) will be available on the d
	ay.\n\n\n\n	The event start time for NatRam walks shows when walkers may b
	egin gathering at the start point before the group sets off (usually about
	 20 to 30 minutes later).\n\n\n\n	The programme for Stark Trekkers and Nat
	Ram walks is available on the Naturist Ramblers web site at the NatRam wal
	ks programme page.  \n\n\n\n	BN members new to Stark Trekkers and NatRam 
	walks should contact the Club Secretary for more information and detailed 
	directions to the event meeting point.  Please bring some ID (e.g. a BN m
	embership card) and be prepared to provide some contact details on a compl
	eted registration form.\n\n	 \n\n\n\n	More information about our walks on
	 the web site explains how our walks are conducted\, and gives some guidan
	ce on what to expect on the day.\n\n	\n\n	 \n\n
DTSTART:20250424T110000Z
DTEND:20250424T173000Z
END:VEVENT
END:VCALENDAR
