BEGIN:VCALENDAR
VERSION:2.0
PRODID:-//InvisionCommunity Events 5.0.18//EN
METHOD:PUBLISH
CALSCALE:GREGORIAN
REFRESH-INTERVAL:PT15M
X-PUBLISHED-TTL:PT15M
X-WR-CALNAME:South West
NAME:South West
BEGIN:VTIMEZONE
TZID:Europe/London
TZURL:https://tzurl.org/zoneinfo/Europe/London
X-LIC-LOCATION:Europe/London
BEGIN:DAYLIGHT
TZOFFSETFROM:+0000
TZOFFSETTO:+0100
TZNAME:BST
DTSTART:20250330T020000Z
RRULE:FREQ=YEARLY;BYMONTH=3;BYDAY=-1SU
END:DAYLIGHT
BEGIN:STANDARD
TZOFFSETFROM:+0100
TZOFFSETTO:+0000
TZNAME:GMT
DTSTART:20251026T020000Z
RRULE:FREQ=YEARLY;BYMONTH=10;BYDAY=-1SU
END:STANDARD
END:VTIMEZONE
BEGIN:VEVENT
SUMMARY:EveryBody
DTSTAMP:20241216T152324Z
SEQUENCE:0
UID:9073-4-0712e666d78c35a5e0181a336d457050@bn.org.uk
ORGANIZER;CN="Alana":notifications@bn.org.uk
DESCRIPTION:\n	EveryBody is a celebration of all things Naked and featur
	es live music\, crazy activities\, discussions &amp\; workshops\, fitness 
	&amp\; wellness plus\, a big Naked trip out to the local waterpark!\n	\n	E
	veryBody Festival is held in Dorset in a magical secluded woodland with lo
	ts of space\, and places to party to enjoy a memorable clothes-free experi
	ence. EveryBody is primarily a tented camping festival\, we have a very li
	mited number of pitches for campervans\, some glamping options plus a hand
	ful of very unique accommodations on site.\n	\n	Curious about attending a 
	naked festival but not sure what to expect? The EveryBody Festival is the 
	perfect place to take the plunge! Designed with first-timers in mind\, thi
	s uplifting celebration of freedom and body positivity welcomes everyone w
	ith open arms and a warm\, judgment-free atmosphere. You don’t need prio
	r experience—just an open heart and a sense of adventure. The festival e
	ncourages you to embrace your natural self while connecting with others in
	 a supportive and fun environment.\n	\n	Come as you are and discover the j
	oy of being completely you at the EveryBody Festival!\n\n\n\n	Click here t
	o book.\n\n
DTSTART:20250730T230000Z
DTEND:20250803T230000Z
END:VEVENT
END:VCALENDAR
