BEGIN:VCALENDAR
VERSION:2.0
PRODID:-//InvisionCommunity Events 5.0.18//EN
METHOD:PUBLISH
CALSCALE:GREGORIAN
REFRESH-INTERVAL:PT15M
X-PUBLISHED-TTL:PT15M
X-WR-CALNAME:Yorkshire and East Midlands
NAME:Yorkshire and East Midlands
BEGIN:VTIMEZONE
TZID:Europe/London
TZURL:https://tzurl.org/zoneinfo/Europe/London
X-LIC-LOCATION:Europe/London
BEGIN:DAYLIGHT
TZOFFSETFROM:+0000
TZOFFSETTO:+0100
TZNAME:BST
DTSTART:20250330T020000Z
RRULE:FREQ=YEARLY;BYMONTH=3;BYDAY=-1SU
END:DAYLIGHT
BEGIN:STANDARD
TZOFFSETFROM:+0100
TZOFFSETTO:+0000
TZNAME:GMT
DTSTART:20251026T020000Z
RRULE:FREQ=YEARLY;BYMONTH=10;BYDAY=-1SU
END:STANDARD
END:VTIMEZONE
BEGIN:VEVENT
SUMMARY:Harrogate Turkish Bath naturist evening
DTSTAMP:20241216T093703Z
SEQUENCE:0
UID:9064-6-0712e666d78c35a5e0181a336d457050@bn.org.uk
ORGANIZER;CN="Steve Froggatt":notifications@bn.org.uk
DESCRIPTION:\n	Relax &amp\; unwind at Harrogate Turkish Baths' first nat
	urist session of 2025\n\n\n\n	Facilities include:\n\n\n\n	Frigidarium\n\n\
	n\n	Steam room\n\n\n\n	3 heated chambers from 40'c to 70'c \n\n\n\n	Plung
	e pool\n\n\n\n	THIS EVENT IS NOW SOLD OUT\n\n\n\n	Thank you for your suppo
	rt\n\n\n\n\n	Note: tickets must be booked via HTBNaturists and not direct
	 with the baths\n\n\n\n	Jacuzzi is out of action\n\n\n\n	 \n\n\n\n	 \n\n
DTSTART:20250222T183000Z
DTEND:20250222T213000Z
END:VEVENT
END:VCALENDAR
