BEGIN:VCALENDAR
VERSION:2.0
PRODID:-//InvisionCommunity Events 5.0.18//EN
METHOD:PUBLISH
CALSCALE:GREGORIAN
REFRESH-INTERVAL:PT15M
X-PUBLISHED-TTL:PT15M
X-WR-CALNAME:London and South East (LASER)
NAME:London and South East (LASER)
BEGIN:VTIMEZONE
TZID:Europe/London
TZURL:https://tzurl.org/zoneinfo/Europe/London
X-LIC-LOCATION:Europe/London
BEGIN:DAYLIGHT
TZOFFSETFROM:+0000
TZOFFSETTO:+0100
TZNAME:BST
DTSTART:20250330T020000Z
RRULE:FREQ=YEARLY;BYMONTH=3;BYDAY=-1SU
END:DAYLIGHT
BEGIN:STANDARD
TZOFFSETFROM:+0100
TZOFFSETTO:+0000
TZNAME:GMT
DTSTART:20251026T020000Z
RRULE:FREQ=YEARLY;BYMONTH=10;BYDAY=-1SU
END:STANDARD
END:VTIMEZONE
BEGIN:VEVENT
SUMMARY:StarkTrek Walk (Challock\, near Ashford in Kent)
DTSTAMP:20241209T223735Z
SEQUENCE:0
UID:9062-7-0712e666d78c35a5e0181a336d457050@bn.org.uk
ORGANIZER;CN="7kk19bnu4spcmn.andrew":notifications@bn.org.uk
DESCRIPTION:\n	Join us for a walk (7 miles) through woodland on the Nort
	h Downs near Ashford in Kent.\n\n\n\n	The event start time shows when the 
	group is intended to set off.  You may wish to arrive 15 to 20 minutes ea
	rlier to get ready and to check-in with the walk leader.  The programme f
	or Stark Trekkers and NatRam walks is available on the Naturist Ramblers w
	eb site at NatRam walks programme (just the first few for 2025 are liste
	d for now).\n\n\n\n	BN members new to StarkTrek and NatRam walks should co
	ntact the Club Secretary for more information and detailed directions to t
	he event meeting point.  Please bring some ID (e.g. a BN membership card)
	 and be prepared to provide some contact details.  More information abou
	t our walks on the web site explains how our walks are conducted\, and gi
	ves some guidance on what to expect on the day.\n\n\n\n	 \n\n
DTSTART:20250130T114500Z
DTEND:20250130T160000Z
END:VEVENT
END:VCALENDAR
