BEGIN:VCALENDAR
VERSION:2.0
PRODID:-//InvisionCommunity Events 5.0.18//EN
METHOD:PUBLISH
CALSCALE:GREGORIAN
REFRESH-INTERVAL:PT15M
X-PUBLISHED-TTL:PT15M
X-WR-CALNAME:Scotland and North East (SANER)
NAME:Scotland and North East (SANER)
BEGIN:VTIMEZONE
TZID:Europe/London
TZURL:https://tzurl.org/zoneinfo/Europe/London
X-LIC-LOCATION:Europe/London
BEGIN:DAYLIGHT
TZOFFSETFROM:+0000
TZOFFSETTO:+0100
TZNAME:BST
DTSTART:20250330T020000Z
RRULE:FREQ=YEARLY;BYMONTH=3;BYDAY=-1SU
END:DAYLIGHT
BEGIN:STANDARD
TZOFFSETFROM:+0100
TZOFFSETTO:+0000
TZNAME:GMT
DTSTART:20251026T020000Z
RRULE:FREQ=YEARLY;BYMONTH=10;BYDAY=-1SU
END:STANDARD
END:VTIMEZONE
BEGIN:VEVENT
SUMMARY:TROC Monthly Swim (& gym)
DTSTAMP:20241207T082517Z
SEQUENCE:0
UID:9033-3-0712e666d78c35a5e0181a336d457050@bn.org.uk
ORGANIZER;CN="Steve Froggatt":notifications@bn.org.uk
DESCRIPTION:\n	TROC has CONFIRMED that the 3rd May event replaces this 
	event.\n\n\n\n	 \n\n\n\n	Monthly naturist swim organised by the Three Riv
	ers Outdoor Club (TROC).\n\n\n\n	 \n\n\n\n	A gym is also available\; plea
	se bring appropriate footwear and a towel for hygiene reasons.\n\n\n\n	 \
	n\n\n\n	Please arrive at 5:50pm.\n\n\n\n	Swim 6:00pm to 7:30pm.\n\n\n\n	Te
	a and coffee available until 7:50pm.\n\n\n\n	 \n\n\n\n	Lockers take 25p (
	not returned).\n\n\n\n	Members £5\; non-members £8.\n\n\n\n	www.nudeswim
	s.co.uk\n\n\n\n	Elswick Community Leisure Centre - Elswick Community Pool 
	(elswickpool.co.uk)\n\n
DTSTART:20250510T165000Z
DTEND:20250510T185000Z
END:VEVENT
END:VCALENDAR
