BEGIN:VCALENDAR
VERSION:2.0
PRODID:-//InvisionCommunity Events 5.0.18//EN
METHOD:PUBLISH
CALSCALE:GREGORIAN
REFRESH-INTERVAL:PT15M
X-PUBLISHED-TTL:PT15M
X-WR-CALNAME:North West
NAME:North West
BEGIN:VTIMEZONE
TZID:Europe/London
TZURL:https://tzurl.org/zoneinfo/Europe/London
X-LIC-LOCATION:Europe/London
BEGIN:DAYLIGHT
TZOFFSETFROM:+0000
TZOFFSETTO:+0100
TZNAME:BST
DTSTART:20250330T020000Z
RRULE:FREQ=YEARLY;BYMONTH=3;BYDAY=-1SU
END:DAYLIGHT
BEGIN:STANDARD
TZOFFSETFROM:+0100
TZOFFSETTO:+0000
TZNAME:GMT
DTSTART:20251026T020000Z
RRULE:FREQ=YEARLY;BYMONTH=10;BYDAY=-1SU
END:STANDARD
END:VTIMEZONE
BEGIN:VEVENT
SUMMARY:Nothing on on a Saturday night
DTSTAMP:20241205T200605Z
SEQUENCE:0
UID:9017-5-0712e666d78c35a5e0181a336d457050@bn.org.uk
ORGANIZER;CN="George.Booth":notifications@bn.org.uk
DESCRIPTION:\n	\n		\n			Event details         Please note: due to c
	ircumstances beyond our control\, there will be no swim until Saturday 1st
	 March \n		\n	\n\n	\n		\n			\n				\n					 Following 1\n				\n			\n		\n	
	\n\n\n\n	\n		\n			\n				\n					\n						\n							\n								This event began
	 07/05/22 and repeats every month until 02/04/24\n							\n						\n\n					
		\n							\n								\n									\n										 Following 2\n									\n				
					\n							\n						\n					\n\n					\n						\n							\n								Event Deta
	ils\n							\n\n							\n								Blackpool &amp\; Fylde Sun Club\n							\
	n\n							\n								\n									\n										BN Member Club\n									\n\n	
									\n										but also open to non members. (ALL GENUINE NATURISTS) 
	first timers always welcome.\n									\n\n									\n										Contact:\n
	\n										Phone George on 07763 472677. (e-mail chairman.bfsc@gmail.co
	m or PM George Booth)\n									\n\n									\n										No need to book
	\, just turn up. Please be prompt and bring ID if it is your first visit.\
	n									\n\n									\n										Poulton YMCA Swimming &amp\; Fitness Ce
	ntre\n\n										Breck Road\, Poulton-le-Fylde\, Blackpool\, FY6 7HJ.\n		
								\n\n									\n										Come and join us for a couple of hours in 
	a warm\, friendly and safe environment. We currently only have have the us
	e of the pool and seating area. The spa is closed until further notice. 
	     \n									\n\n									\n										Don't forget to come along to 
	the nearby Thornton Lodge pub afterwards to finish off the night. Still no
	t sure? Just come along to the pub and meet us from around 9:10pm. (Now se
	lling 4 cask ales).\n									\n\n									\n										It's usually the fi
	rst Saturday of each month. (Sometimes a week later in November). If you
	 are travelling a distance\, please check the website.\n\n										Time: 
	7pm-9pm Prices: Non-Members £8\, B&amp\;FSC Members £6\n									\n\n	
									\n										Please check our website for regular updates.\n\n					
						www.blackpoolandfyldesunclub.co.uk \n									\n								\n							\n	
						\n					\n				\n			\n		\n	\n\n
DTSTART:20250201T190000Z
DTEND:20250201T210000Z
END:VEVENT
END:VCALENDAR
