BEGIN:VCALENDAR
VERSION:2.0
PRODID:-//InvisionCommunity Events 5.0.18//EN
METHOD:PUBLISH
CALSCALE:GREGORIAN
REFRESH-INTERVAL:PT15M
X-PUBLISHED-TTL:PT15M
X-WR-CALNAME:North West
NAME:North West
BEGIN:VTIMEZONE
TZID:Europe/London
TZURL:https://tzurl.org/zoneinfo/Europe/London
X-LIC-LOCATION:Europe/London
BEGIN:DAYLIGHT
TZOFFSETFROM:+0000
TZOFFSETTO:+0100
TZNAME:BST
DTSTART:20240331T020000Z
RRULE:FREQ=YEARLY;BYMONTH=3;BYDAY=-1SU
END:DAYLIGHT
BEGIN:STANDARD
TZOFFSETFROM:+0100
TZOFFSETTO:+0000
TZNAME:GMT
DTSTART:20241027T020000Z
RRULE:FREQ=YEARLY;BYMONTH=10;BYDAY=-1SU
END:STANDARD
END:VTIMEZONE
BEGIN:VEVENT
SUMMARY:Nude Years Eve @ Liverpool Sun & Air
DTSTAMP:20241205T091423Z
SEQUENCE:0
UID:9015-5-0712e666d78c35a5e0181a336d457050@bn.org.uk
ORGANIZER;CN="Grandma Jane":notifications@bn.org.uk
DESCRIPTION:\n	New Years Eve 2024\n\n\n\n	Menu –\n\n\n\n	Hotpot Supper
	 &amp\; Dessert\n\n\n\n	Served at 7.30pm\n\n\n\n	£10.00 per person\n\n\n\
	n	Come along and enjoy bringing in the New Year with friends.\n\n\n\n	Emai
	l : bookings@lsas.org.uk\n\n\n\n	Tel : 07564 336332       \n\n\n
	\n	Bacs – LSAS   S/C 40-24-40    Acc 11117823   Ref: NYE24\n\n\n\
	n	Closing date for bookings 28th December\n\n\n\n	All events are open to 
	members and non members\n\n
DTSTART;VALUE=DATE:20241231
END:VEVENT
END:VCALENDAR
