BEGIN:VCALENDAR
VERSION:2.0
PRODID:-//InvisionCommunity Events 5.0.18//EN
METHOD:PUBLISH
CALSCALE:GREGORIAN
REFRESH-INTERVAL:PT15M
X-PUBLISHED-TTL:PT15M
X-WR-CALNAME:Northern Ireland
NAME:Northern Ireland
BEGIN:VTIMEZONE
TZID:Europe/London
TZURL:https://tzurl.org/zoneinfo/Europe/London
X-LIC-LOCATION:Europe/London
BEGIN:DAYLIGHT
TZOFFSETFROM:+0000
TZOFFSETTO:+0100
TZNAME:BST
DTSTART:20240331T020000Z
RRULE:FREQ=YEARLY;BYMONTH=3;BYDAY=-1SU
END:DAYLIGHT
BEGIN:STANDARD
TZOFFSETFROM:+0100
TZOFFSETTO:+0000
TZNAME:GMT
DTSTART:20241027T020000Z
RRULE:FREQ=YEARLY;BYMONTH=10;BYDAY=-1SU
END:STANDARD
END:VTIMEZONE
BEGIN:VEVENT
SUMMARY:Sauna session
DTSTAMP:20241202T160934Z
SEQUENCE:0
UID:9012-29-0712e666d78c35a5e0181a336d457050@bn.org.uk
ORGANIZER;CN="Kev.oconnor":notifications@bn.org.uk
DESCRIPTION:\n	Outdoor Sauna Session\n	Wednesday 4th DECEMBER\n	5pm to 9
	pm\n	This will be at in Broughshane. (Ten minutes from dance session which
	 you can attend after if you wish)\n	Whilst some are dancing some can be 
	relaxing in the heat\n	We hope to have up to 10 people involved with one g
	roup at the Sauna and the other at the dancing and then perhaps swapping l
	ocations to take part in the other activity.\n	Contact us as oon as possib
	le to reserve a place and for directions\n\n\n\n	Dress code: Naked/Santa 
	hats/Tinsel.\n\n\n\n	Equipment: Flip flops and towel\n\n\n\n	Please bring 
	your own refreshments\n	 \n\n
DTSTART:20241204T170000Z
DTEND:20241204T213000Z
END:VEVENT
END:VCALENDAR
